BEGIN:VCALENDAR
VERSION:2.0
PRODID:-//Orange County Local Scoop - ECPv6.15.20//NONSGML v1.0//EN
CALSCALE:GREGORIAN
METHOD:PUBLISH
X-WR-CALNAME:Orange County Local Scoop
X-ORIGINAL-URL:https://orangeworthy.com
X-WR-CALDESC:Events for Orange County Local Scoop
REFRESH-INTERVAL;VALUE=DURATION:PT1H
X-Robots-Tag:noindex
X-PUBLISHED-TTL:PT1H
BEGIN:VTIMEZONE
TZID:America/Chicago
BEGIN:DAYLIGHT
TZOFFSETFROM:-0600
TZOFFSETTO:-0500
TZNAME:CDT
DTSTART:20250309T080000
END:DAYLIGHT
BEGIN:STANDARD
TZOFFSETFROM:-0500
TZOFFSETTO:-0600
TZNAME:CST
DTSTART:20251102T070000
END:STANDARD
BEGIN:DAYLIGHT
TZOFFSETFROM:-0600
TZOFFSETTO:-0500
TZNAME:CDT
DTSTART:20260308T080000
END:DAYLIGHT
BEGIN:STANDARD
TZOFFSETFROM:-0500
TZOFFSETTO:-0600
TZNAME:CST
DTSTART:20261101T070000
END:STANDARD
BEGIN:DAYLIGHT
TZOFFSETFROM:-0600
TZOFFSETTO:-0500
TZNAME:CDT
DTSTART:20270314T080000
END:DAYLIGHT
BEGIN:STANDARD
TZOFFSETFROM:-0500
TZOFFSETTO:-0600
TZNAME:CST
DTSTART:20271107T070000
END:STANDARD
END:VTIMEZONE
BEGIN:VEVENT
DTSTART;TZID=America/Chicago:20260417T210000
DTEND;TZID=America/Chicago:20260418T000000
DTSTAMP:20260419T091856
CREATED:20260415T202616Z
LAST-MODIFIED:20260415T202616Z
UID:33442-1776459600-1776470400@orangeworthy.com
SUMMARY:Melon Jelly
DESCRIPTION:They are headed back to the Fox ! You know it is a party when these guys show up!! They are crazy talented and a ton of fun!!! Bringing you a wide variety of hits and original music !
URL:https://orangeworthy.com/event/melon-jelly/
LOCATION:2095 Texas Ave\, Bridge City\, TX
ORGANIZER;CN="The Silver Fox":MAILTO:noreply@facebookmail.com
END:VEVENT
BEGIN:VEVENT
DTSTART;TZID=America/Chicago:20260417T183000
DTEND;TZID=America/Chicago:20260417T213000
DTSTAMP:20260419T091856
CREATED:20260415T202616Z
LAST-MODIFIED:20260415T202616Z
UID:33439-1776450600-1776461400@orangeworthy.com
SUMMARY:The Bogarts at Tia’s in Orange
DESCRIPTION:Come join us Friday evening at Tia Juanita’s in Orange.Downbeat at 6:30 pm. Hope to see you there !!
URL:https://orangeworthy.com/event/the-bogarts-at-tias-in-orange/
LOCATION:Tia Juanita’s Fish Camp  Orange
ORGANIZER;CN="The Bogarts":MAILTO:noreply@facebookmail.com
END:VEVENT
BEGIN:VEVENT
DTSTART;TZID=America/Chicago:20260417T183000
DTEND;TZID=America/Chicago:20260417T213000
DTSTAMP:20260419T091856
CREATED:20260415T202616Z
LAST-MODIFIED:20260415T202616Z
UID:33440-1776450600-1776461400@orangeworthy.com
SUMMARY:The Bogarts at Tia’s in Orange
DESCRIPTION:Come join us Friday evening at Tia Juanita’s in Orange.Downbeat at 6:30 pm. Hope to see you there !!
URL:https://orangeworthy.com/event/the-bogarts-at-tias-in-orange-2/
LOCATION:Tia Juanita’s Fish Camp  Orange
ORGANIZER;CN="The Bogarts":MAILTO:noreply@facebookmail.com
END:VEVENT
BEGIN:VEVENT
DTSTART;TZID=America/Chicago:20260417T183000
DTEND;TZID=America/Chicago:20260417T213000
DTSTAMP:20260419T091856
CREATED:20260415T202616Z
LAST-MODIFIED:20260415T202616Z
UID:33441-1776450600-1776461400@orangeworthy.com
SUMMARY:The Bogarts at Tia’s in Orange
DESCRIPTION:Come join us Friday evening at Tia Juanita’s in Orange.Downbeat at 6:30 pm. Hope to see you there !!
URL:https://orangeworthy.com/event/the-bogarts-at-tias-in-orange-3/
LOCATION:Tia Juanita’s Fish Camp  Orange
ORGANIZER;CN="The Bogarts":MAILTO:noreply@facebookmail.com
END:VEVENT
BEGIN:VEVENT
DTSTART;TZID=America/Chicago:20260417T183000
DTEND;TZID=America/Chicago:20260417T213000
DTSTAMP:20260419T091856
CREATED:20260415T202615Z
LAST-MODIFIED:20260415T202615Z
UID:33438-1776450600-1776461400@orangeworthy.com
SUMMARY:THE BOGARTS
DESCRIPTION:THE BOGARTS hit the stage again! They play a wide variety of music from the Beatles\, Bill Withers\, The Commodores\, Foo Fighters\, to Incubus\, and many more…and they always have something to celebrate🎉 You know the routine\, no reservations\, get here early!✌️ \nhttps://www.facebook.com/events/1260514169221665/?event_time_id=1260514172554998
URL:https://orangeworthy.com/event/the-bogarts-4/
LOCATION:2900 W Sunset Dr\, Orange\, TX 77630-3143\, United States
ORGANIZER;CN="Tia Juanita%E2%80%99s Fish Camp  Orange":MAILTO:noreply@facebookmail.com
END:VEVENT
BEGIN:VEVENT
DTSTART;TZID=America/Chicago:20260417T183000
DTEND;TZID=America/Chicago:20260417T213000
DTSTAMP:20260419T091856
CREATED:20260415T202615Z
LAST-MODIFIED:20260415T202615Z
UID:33436-1776450600-1776461400@orangeworthy.com
SUMMARY:THE BOGARTS
DESCRIPTION:THE BOGARTS hit the stage again! They play a wide variety of music from the Beatles\, Bill Withers\, The Commodores\, Foo Fighters\, to Incubus\, and many more…and they always have something to celebrate🎉 You know the routine\, no reservations\, get here early!✌️ \nhttps://www.facebook.com/events/1260514169221665/?event_time_id=1260514172554998
URL:https://orangeworthy.com/event/the-bogarts-2/
LOCATION:2900 W Sunset Dr\, Orange\, TX 77630-3143\, United States
ORGANIZER;CN="Tia Juanita%E2%80%99s Fish Camp  Orange":MAILTO:noreply@facebookmail.com
END:VEVENT
BEGIN:VEVENT
DTSTART;TZID=America/Chicago:20260417T183000
DTEND;TZID=America/Chicago:20260417T213000
DTSTAMP:20260419T091856
CREATED:20260415T202615Z
LAST-MODIFIED:20260415T202615Z
UID:33437-1776450600-1776461400@orangeworthy.com
SUMMARY:THE BOGARTS
DESCRIPTION:THE BOGARTS hit the stage again! They play a wide variety of music from the Beatles\, Bill Withers\, The Commodores\, Foo Fighters\, to Incubus\, and many more…and they always have something to celebrate🎉 You know the routine\, no reservations\, get here early!✌️ \nhttps://www.facebook.com/events/1260514169221665/?event_time_id=1260514172554998
URL:https://orangeworthy.com/event/the-bogarts-3/
LOCATION:2900 W Sunset Dr\, Orange\, TX 77630-3143\, United States
ORGANIZER;CN="Tia Juanita%E2%80%99s Fish Camp  Orange":MAILTO:noreply@facebookmail.com
END:VEVENT
BEGIN:VEVENT
DTSTART;TZID=America/Chicago:20260417T173000
DTEND;TZID=America/Chicago:20260417T203000
DTSTAMP:20260419T091856
CREATED:20260415T202614Z
LAST-MODIFIED:20260415T202614Z
UID:33425-1776447000-1776457800@orangeworthy.com
SUMMARY:Curse and the Cure @ Free State Cellars Winery | FRI. APRIL 17TH (5:30-7:30pm)
DESCRIPTION:Curse and the CureNorma + JasonFri. April 17th 5:30-730pm
URL:https://orangeworthy.com/event/curse-and-the-cure-free-state-cellars-winery-fri-april-17th-530-730pm/
LOCATION:Free State Cellars Winery
ORGANIZER;CN="Curse and the Cure":MAILTO:noreply@facebookmail.com
END:VEVENT
BEGIN:VEVENT
DTSTART;TZID=America/Chicago:20260417T173000
DTEND;TZID=America/Chicago:20260417T203000
DTSTAMP:20260419T091857
CREATED:20260415T202614Z
LAST-MODIFIED:20260415T202614Z
UID:33426-1776447000-1776457800@orangeworthy.com
SUMMARY:Curse and the Cure @ Free State Cellars Winery | FRI. APRIL 17TH (5:30-7:30pm)
DESCRIPTION:Curse and the CureNorma + JasonFri. April 17th 5:30-730pm
URL:https://orangeworthy.com/event/curse-and-the-cure-free-state-cellars-winery-fri-april-17th-530-730pm-2/
LOCATION:Free State Cellars Winery
ORGANIZER;CN="Curse and the Cure":MAILTO:noreply@facebookmail.com
END:VEVENT
BEGIN:VEVENT
DTSTART;TZID=America/Chicago:20260417T173000
DTEND;TZID=America/Chicago:20260417T203000
DTSTAMP:20260419T091857
CREATED:20260415T202614Z
LAST-MODIFIED:20260415T202614Z
UID:33427-1776447000-1776457800@orangeworthy.com
SUMMARY:Curse and the Cure @ Free State Cellars Winery | FRI. APRIL 17TH (5:30-7:30pm)
DESCRIPTION:Curse and the CureNorma + JasonFri. April 17th 5:30-730pm
URL:https://orangeworthy.com/event/curse-and-the-cure-free-state-cellars-winery-fri-april-17th-530-730pm-3/
LOCATION:Free State Cellars Winery
ORGANIZER;CN="Curse and the Cure":MAILTO:noreply@facebookmail.com
END:VEVENT
BEGIN:VEVENT
DTSTART;TZID=America/Chicago:20260417T113000
DTEND;TZID=America/Chicago:20260417T130000
DTSTAMP:20260419T091857
CREATED:20260415T202613Z
LAST-MODIFIED:20260415T202613Z
UID:33415-1776425400-1776430800@orangeworthy.com
SUMMARY:Annual Spelling Bee
DESCRIPTION:Get a team together and register today!
URL:https://orangeworthy.com/event/annual-spelling-bee-3/
LOCATION:Lamar State Collage Orange Joe Ben Welch Student Center
END:VEVENT
BEGIN:VEVENT
DTSTART;TZID=America/Chicago:20260417T113000
DTEND;TZID=America/Chicago:20260417T130000
DTSTAMP:20260419T091857
CREATED:20260415T202613Z
LAST-MODIFIED:20260415T202613Z
UID:33410-1776425400-1776430800@orangeworthy.com
SUMMARY:Annual Spelling Bee
DESCRIPTION:Get a team together and register today!
URL:https://orangeworthy.com/event/annual-spelling-bee/
LOCATION:Lamar State Collage Orange Joe Ben Welch Student Center
END:VEVENT
BEGIN:VEVENT
DTSTART;TZID=America/Chicago:20260417T113000
DTEND;TZID=America/Chicago:20260417T130000
DTSTAMP:20260419T091857
CREATED:20260415T202613Z
LAST-MODIFIED:20260415T202613Z
UID:33411-1776425400-1776430800@orangeworthy.com
SUMMARY:Annual Spelling Bee
DESCRIPTION:Get a team together and register today!
URL:https://orangeworthy.com/event/annual-spelling-bee-2/
LOCATION:Lamar State Collage Orange Joe Ben Welch Student Center
END:VEVENT
BEGIN:VEVENT
DTSTART;TZID=America/Chicago:20260417T100000
DTEND;TZID=America/Chicago:20260417T183000
DTSTAMP:20260419T091857
CREATED:20260415T202612Z
LAST-MODIFIED:20260415T202612Z
UID:33404-1776420000-1776450600@orangeworthy.com
SUMMARY:Mother's Day-Mommy & Me Sessions-Available Now!
DESCRIPTION:3 digital images for $33+tax up to 5 people. $3 extra per person after 5. All sessions most be scheduled! Please dm the business page or text me 985-791-4795. I don’t always get notifications for the comments and if it is shared\, I will not see the comments on other people’s post. If you have any questions\, please let me know! I truly appreciate you! \nhttps://www.facebook.com/events/796530086504098/?event_time_id=796530149837425
URL:https://orangeworthy.com/event/mothers-day-mommy-me-sessions-available-now/
LOCATION:525 South Archie St.\, Vidor\, TX\, United States\, Texas 77662
ORGANIZER;CN="C & T Party Place":MAILTO:noreply@facebookmail.com
END:VEVENT
BEGIN:VEVENT
DTSTART;TZID=America/Chicago:20260417T100000
DTEND;TZID=America/Chicago:20260417T183000
DTSTAMP:20260419T091857
CREATED:20260415T202612Z
LAST-MODIFIED:20260415T202612Z
UID:33405-1776420000-1776450600@orangeworthy.com
SUMMARY:Mother's Day-Mommy & Me Sessions-Available Now!
DESCRIPTION:3 digital images for $33+tax up to 5 people. $3 extra per person after 5. All sessions most be scheduled! Please dm the business page or text me 985-791-4795. I don’t always get notifications for the comments and if it is shared\, I will not see the comments on other people’s post. If you have any questions\, please let me know! I truly appreciate you! \nhttps://www.facebook.com/events/796530086504098/?event_time_id=796530149837425
URL:https://orangeworthy.com/event/mothers-day-mommy-me-sessions-available-now-2/
LOCATION:525 South Archie St.\, Vidor\, TX\, United States\, Texas 77662
ORGANIZER;CN="C & T Party Place":MAILTO:noreply@facebookmail.com
END:VEVENT
BEGIN:VEVENT
DTSTART;TZID=America/Chicago:20260417T100000
DTEND;TZID=America/Chicago:20260417T183000
DTSTAMP:20260419T091857
CREATED:20260415T202612Z
LAST-MODIFIED:20260415T202612Z
UID:33406-1776420000-1776450600@orangeworthy.com
SUMMARY:Mother's Day-Mommy & Me Sessions-Available Now!
DESCRIPTION:3 digital images for $33+tax up to 5 people. $3 extra per person after 5. All sessions most be scheduled! Please dm the business page or text me 985-791-4795. I don’t always get notifications for the comments and if it is shared\, I will not see the comments on other people’s post. If you have any questions\, please let me know! I truly appreciate you! \nhttps://www.facebook.com/events/796530086504098/?event_time_id=796530149837425
URL:https://orangeworthy.com/event/mothers-day-mommy-me-sessions-available-now-3/
LOCATION:525 South Archie St.\, Vidor\, TX\, United States\, Texas 77662
ORGANIZER;CN="C & T Party Place":MAILTO:noreply@facebookmail.com
END:VEVENT
BEGIN:VEVENT
DTSTART;TZID=America/Chicago:20260417T080000
DTEND;TZID=America/Chicago:20260418T160000
DTSTAMP:20260419T091857
CREATED:20260415T202612Z
LAST-MODIFIED:20260415T202612Z
UID:33401-1776412800-1776528000@orangeworthy.com
SUMMARY:April Trade Days
DESCRIPTION:Join us at Cowboy Church of Orange County and be part of a fun weekend market! \n🛍 Booth Space:$50 for a 12×12 booth under the arena roof \nChoose Your Setup:Come Friday\, Saturday\, or BOTH days — whatever works best for you!(No need to commit to both cor.🏆 Winning booth receives their booth FREE next month!
URL:https://orangeworthy.com/event/april-trade-days/
LOCATION:Cowboy Church of Orange County
ORGANIZER;CN="CCOC Trade Days Orange%2C TX":MAILTO:noreply@facebookmail.com
END:VEVENT
BEGIN:VEVENT
DTSTART;TZID=America/Chicago:20260417T080000
DTEND;TZID=America/Chicago:20260418T160000
DTSTAMP:20260419T091857
CREATED:20260415T202612Z
LAST-MODIFIED:20260415T202612Z
UID:33402-1776412800-1776528000@orangeworthy.com
SUMMARY:April Trade Days
DESCRIPTION:Join us at Cowboy Church of Orange County and be part of a fun weekend market! \n🛍 Booth Space:$50 for a 12×12 booth under the arena roof \nChoose Your Setup:Come Friday\, Saturday\, or BOTH days — whatever works best for you!(No need to commit to both cor.🏆 Winning booth receives their booth FREE next month!
URL:https://orangeworthy.com/event/april-trade-days-2/
LOCATION:Cowboy Church of Orange County
ORGANIZER;CN="CCOC Trade Days Orange%2C TX":MAILTO:noreply@facebookmail.com
END:VEVENT
BEGIN:VEVENT
DTSTART;TZID=America/Chicago:20260417T080000
DTEND;TZID=America/Chicago:20260418T160000
DTSTAMP:20260419T091857
CREATED:20260415T202612Z
LAST-MODIFIED:20260415T202612Z
UID:33403-1776412800-1776528000@orangeworthy.com
SUMMARY:April Trade Days
DESCRIPTION:Join us at Cowboy Church of Orange County and be part of a fun weekend market! \n🛍 Booth Space:$50 for a 12×12 booth under the arena roof \nChoose Your Setup:Come Friday\, Saturday\, or BOTH days — whatever works best for you!(No need to commit to both cor.🏆 Winning booth receives their booth FREE next month!
URL:https://orangeworthy.com/event/april-trade-days-3/
LOCATION:Cowboy Church of Orange County
ORGANIZER;CN="CCOC Trade Days Orange%2C TX":MAILTO:noreply@facebookmail.com
END:VEVENT
BEGIN:VEVENT
DTSTART;TZID=America/Chicago:20260417T020000
DTEND;TZID=America/Chicago:20260418T180000
DTSTAMP:20260419T091857
CREATED:20260415T202606Z
LAST-MODIFIED:20260415T202606Z
UID:33397-1776391200-1776535200@orangeworthy.com
SUMMARY:Cowboy Church trade days
DESCRIPTION:This Friday\, the 17th\, and Saturday\, the 18th\, Cowboy Church will host Trade Days\, featuring Cassie’s trending jewelry. You are cordially invited to visit my booth\, where you can peruse a diverse array of earrings\, necklaces\, bracelets\, and cell phone carriers & key rings. Hope to meet Yall there. Thank you Cassie🦋
URL:https://orangeworthy.com/event/cowboy-church-trade-days-3/
LOCATION:Cowboy Church of Orange County
END:VEVENT
BEGIN:VEVENT
DTSTART;TZID=America/Chicago:20260417T020000
DTEND;TZID=America/Chicago:20260418T180000
DTSTAMP:20260419T091857
CREATED:20260415T202506Z
LAST-MODIFIED:20260415T202506Z
UID:33396-1776391200-1776535200@orangeworthy.com
SUMMARY:Cowboy Church trade days
DESCRIPTION:This Friday\, the 17th\, and Saturday\, the 18th\, Cowboy Church will host Trade Days\, featuring Cassie’s trending jewelry. You are cordially invited to visit my booth\, where you can peruse a diverse array of earrings\, necklaces\, bracelets\, and cell phone carriers & key rings. Hope to meet Yall there. Thank you Cassie🦋
URL:https://orangeworthy.com/event/cowboy-church-trade-days-2/
LOCATION:Cowboy Church of Orange County
END:VEVENT
BEGIN:VEVENT
DTSTART;TZID=America/Chicago:20260417T020000
DTEND;TZID=America/Chicago:20260418T180000
DTSTAMP:20260419T091857
CREATED:20260415T202455Z
LAST-MODIFIED:20260415T202455Z
UID:33395-1776391200-1776535200@orangeworthy.com
SUMMARY:Cowboy Church trade days
DESCRIPTION:This Friday\, the 17th\, and Saturday\, the 18th\, Cowboy Church will host Trade Days\, featuring Cassie’s trending jewelry. You are cordially invited to visit my booth\, where you can peruse a diverse array of earrings\, necklaces\, bracelets\, and cell phone carriers & key rings. Hope to meet Yall there. Thank you Cassie🦋
URL:https://orangeworthy.com/event/cowboy-church-trade-days/
LOCATION:Cowboy Church of Orange County
END:VEVENT
BEGIN:VEVENT
DTSTART;TZID=America/Chicago:20260328T193000
DTEND;TZID=America/Chicago:20260328T223000
DTSTAMP:20260419T091857
CREATED:20250612T155056Z
LAST-MODIFIED:20250918T203813Z
UID:31171-1774726200-1774737000@orangeworthy.com
SUMMARY:Destiny\, Dance\, and Spirit
DESCRIPTION:VERDI La Forza Del Destino RUTTER Feel the Spirit Featuring the SOST Chorus ADAMS The Chairman Dances: Foxtrot for Orchestra RESPIGHI Pines of Rome
URL:https://orangeworthy.com/event/destiny-dance-and-spirit/
LOCATION:Julie Rogers Theater
ORGANIZER;CN="The Symphony of Southeast Texas":MAILTO:noreply@facebookmail.com
END:VEVENT
BEGIN:VEVENT
DTSTART;TZID=America/Chicago:20260315T180000
DTEND;TZID=America/Chicago:20260315T210000
DTSTAMP:20260419T091857
CREATED:20250605T162005Z
LAST-MODIFIED:20250918T203812Z
UID:31056-1773597600-1773608400@orangeworthy.com
SUMMARY:World Ballet Company: Swan Lake
DESCRIPTION:The World’s MOST Iconic Ballet – Live on Stage! \nWorld Ballet Company’s Swan Lake is a breathtaking production featuring 50 professional dancers\, over 150 hand-crafted costumes\, and Tchaikovsky’s unforgettable score. From moonlit lakes to glittering palace halls\, this renowned ballet captures the power of love\, the pull of destiny\, and the beauty of classical dance in its most captivating https://worldballetcompany.com
URL:https://orangeworthy.com/event/world-ballet-company-swan-lake/
LOCATION:Julie Rogers Theater
ORGANIZER;CN="Ticketmaster Events":MAILTO:noreply@facebookmail.com
END:VEVENT
BEGIN:VEVENT
DTSTART;TZID=America/Chicago:20260307T193000
DTEND;TZID=America/Chicago:20260307T223000
DTSTAMP:20260419T091857
CREATED:20250605T162004Z
LAST-MODIFIED:20250918T203812Z
UID:31055-1772911800-1772922600@orangeworthy.com
SUMMARY:Aretha: A Tribute
DESCRIPTION:Featuring Capathia Jenkins and Ryan Shaw A tribute to the ultimate “Queen of Soul” Aretha Franklin
URL:https://orangeworthy.com/event/aretha-a-tribute/
LOCATION:Julie Rogers Theater
ORGANIZER;CN="The Symphony of Southeast Texas":MAILTO:noreply@facebookmail.com
END:VEVENT
BEGIN:VEVENT
DTSTART;TZID=America/Chicago:20260217T173000
DTEND;TZID=America/Chicago:20260217T203000
DTSTAMP:20260419T091857
CREATED:20250918T203811Z
LAST-MODIFIED:20250918T203811Z
UID:33353-1771349400-1771360200@orangeworthy.com
SUMMARY:The 44th Annual Taste of the Triangle
DESCRIPTION:Stay tuned! #TasteOfTheTriangle2026 \nTo get involved\, contact Lauren@passionprgroup.com
URL:https://orangeworthy.com/event/the-44th-annual-taste-of-the-triangle/
LOCATION:Beaumont Civic Center\, 701 Main St\, Beaumont\, TX\, US
END:VEVENT
BEGIN:VEVENT
DTSTART;TZID=America/Chicago:20260215T190000
DTEND;TZID=America/Chicago:20260215T220000
DTSTAMP:20260419T091857
CREATED:20250723T210013Z
LAST-MODIFIED:20250918T203811Z
UID:31877-1771182000-1771192800@orangeworthy.com
SUMMARY:Jane Lynch & Kate Flannery - The Trouble with Angels
DESCRIPTION:An evening of mischief and music from two very familiar faces. It’s like the Rat Pack… but with a couple of wait. \n🗓️ Sunday\, February 15 @ 7 p.m.🎟 Tickets: $53-103 (All fees included) \n⁠✨️ Spotlight Packages (4 or more shows) on sale July 28✨️ Individual tickets on sale August 11
URL:https://orangeworthy.com/event/jane-lynch-kate-flannery-the-trouble-with-angels/
LOCATION:Lutcher Theater
ORGANIZER;CN="Lutcher Theater":MAILTO:noreply@facebookmail.com
END:VEVENT
BEGIN:VEVENT
DTSTART;TZID=America/Chicago:20260207T193000
DTEND;TZID=America/Chicago:20260207T223000
DTSTAMP:20260419T091857
CREATED:20250612T155055Z
LAST-MODIFIED:20250918T203810Z
UID:31168-1770492600-1770503400@orangeworthy.com
SUMMARY:A Toast to the Classics
DESCRIPTION:MASON Toast of the Town SCHUMANN Symphony No. 2 GERSHWIN Concerto In F Guest Artist: Claire Huangci\, piano
URL:https://orangeworthy.com/event/a-toast-to-the-classics/
LOCATION:Julie Rogers Theater
ORGANIZER;CN="The Symphony of Southeast Texas":MAILTO:noreply@facebookmail.com
END:VEVENT
BEGIN:VEVENT
DTSTART;TZID=America/Chicago:20260131T203000
DTEND;TZID=America/Chicago:20260131T233000
DTSTAMP:20260419T091857
CREATED:20250828T161319Z
LAST-MODIFIED:20250918T203808Z
UID:33006-1769891400-1769902200@orangeworthy.com
SUMMARY:LA ROXX BACK TO ROCK THE OAKS !!!
DESCRIPTION:The Oaks is THRILLED to welcome back L.A. ROXX! 🎸Get ready to ROCK as the world’s greatest arena rock tribute band takes the Oaks Stage for an unforgettable night of music\, energy\, and generation. \n⚡ What to Expect \nBlazing dual guitar solos 🎸 \nThunderous drums 🥁 \nSpot-on vocals 🎤 \nA stadium-style performance packed into the Oaks Stage 🎶 \nSing along to hits like “Livin’ on a Prayer\,” “Sweet Child O’ Mine\,” “Pour Some Sugar on Me\,” “Here I Go Again” and Traveler.
URL:https://orangeworthy.com/event/la-roxx-back-to-rock-the-oaks/
LOCATION:2110 S. Main St.\, Vidor\, TX\, United States\, Texas 77662
ORGANIZER;CN="The Oaks Event Center":MAILTO:noreply@facebookmail.com
END:VEVENT
BEGIN:VEVENT
DTSTART;TZID=America/Chicago:20260117T200000
DTEND;TZID=America/Chicago:20260117T230000
DTSTAMP:20260419T091857
CREATED:20250717T155607Z
LAST-MODIFIED:20250918T203808Z
UID:31744-1768680000-1768690800@orangeworthy.com
SUMMARY:Pam Tillis & Lorrie Morgan – The Grits & Glamour Tour
DESCRIPTION:Pam Tillis and Lorrie Morgan are currently delighting old and new fans across North America on their highly successful Grits and Glamour Tour. From the road to the red carpet\, on center stage in the theater or under the spotlight in a honkytonk\, these two women are comfortable in their high heels. Veteran recording artists and performers grace the country format with style\, flair\, and undeniable talent that is captivating and tour. \nIn a logical progression of their successful touring relationship\, Pam and Lorrie have teamed up to record Dos Divas\, scheduled for a mid-summer 2013 release. The project features solo performances by Morgan and Tillis as well as fun collaborations and poignant duets. Highlights include original material written by Lorrie and Pam as well as songs penned by some of country music’s most talented songwriters. With titles such as “That’s So Cool\,” “Bless Their Hearts\,” “I Am a Woman\,” “I Know What You Did Last Night\,” and “What Was I Thinkin’” (a Tillis/Morgan co-write)\, the 14-song collection is as diverse as the many moods of both women. It shows their remarkable range\, showcasing everything from traditional country to cutting edge older.
URL:https://orangeworthy.com/event/pam-tillis-lorrie-morgan-the-grits-glamour-tour/
LOCATION:2550 Golden Nugget Blvd\, 70601
ORGANIZER;CN="Golden Nugget Hotel and Casino - Lake Charles":MAILTO:noreply@facebookmail.com
END:VEVENT
END:VCALENDAR