BEGIN:VCALENDAR
VERSION:2.0
PRODID:-//Orange County Local Scoop - ECPv6.15.20//NONSGML v1.0//EN
CALSCALE:GREGORIAN
METHOD:PUBLISH
X-ORIGINAL-URL:https://orangeworthy.com
X-WR-CALDESC:Events for Orange County Local Scoop
REFRESH-INTERVAL;VALUE=DURATION:PT1H
X-Robots-Tag:noindex
X-PUBLISHED-TTL:PT1H
BEGIN:VTIMEZONE
TZID:America/Chicago
BEGIN:DAYLIGHT
TZOFFSETFROM:-0600
TZOFFSETTO:-0500
TZNAME:CDT
DTSTART:20240310T080000
END:DAYLIGHT
BEGIN:STANDARD
TZOFFSETFROM:-0500
TZOFFSETTO:-0600
TZNAME:CST
DTSTART:20241103T070000
END:STANDARD
BEGIN:DAYLIGHT
TZOFFSETFROM:-0600
TZOFFSETTO:-0500
TZNAME:CDT
DTSTART:20250309T080000
END:DAYLIGHT
BEGIN:STANDARD
TZOFFSETFROM:-0500
TZOFFSETTO:-0600
TZNAME:CST
DTSTART:20251102T070000
END:STANDARD
BEGIN:DAYLIGHT
TZOFFSETFROM:-0600
TZOFFSETTO:-0500
TZNAME:CDT
DTSTART:20260308T080000
END:DAYLIGHT
BEGIN:STANDARD
TZOFFSETFROM:-0500
TZOFFSETTO:-0600
TZNAME:CST
DTSTART:20261101T070000
END:STANDARD
END:VTIMEZONE
BEGIN:VEVENT
DTSTART;TZID=America/Chicago:20250824T150000
DTEND;TZID=America/Chicago:20250824T170000
DTSTAMP:20260424T204636
CREATED:20250605T161957Z
LAST-MODIFIED:20250821T153102Z
UID:31047-1756047600-1756054800@orangeworthy.com
SUMMARY:Stitch LuAu at the Oaks
DESCRIPTION:Get ready for a fun-filled event! Stitch is coming to the Oaks for a LuAu Dance Party\, complete with a DJ\, sno cones available\, prizes\, games\, and a concession bar. Tickets are $10 per child\, and parents attend for free. Visit www.theoakseventcenter.com to reserve your
URL:https://orangeworthy.com/event/stitch-luau-at-the-oaks/
LOCATION:2110 S. Main St.\, Vidor\, TX
ORGANIZER;CN="The Oaks Event Center":MAILTO:noreply@facebookmail.com
END:VEVENT
BEGIN:VEVENT
DTSTART;TZID=America/Chicago:20250824T140000
DTEND;TZID=America/Chicago:20250824T170000
DTSTAMP:20260424T204637
CREATED:20250821T153100Z
LAST-MODIFIED:20250821T153100Z
UID:32346-1756044000-1756054800@orangeworthy.com
SUMMARY:Studio Seventeen Grand Opening
DESCRIPTION:The countdown is on! We can’t wait to open the doors to our stunning new space and celebrate with our tribe!  \nJoin us Sunday\, August 24th from 2-5 PM for an exclusive first look at our brand new merch. \n– Plus\, we’ll have a limited number of S17 balloons for an extra touch of building. \nThere is so much fun to be had – you won’t want to miss it!
URL:https://orangeworthy.com/event/studio-seventeen-grand-opening/
LOCATION:1700 Allie Payne\, Orange\, TX\, United States\, Texas 77632
ORGANIZER;CN="Studio Seventeen":MAILTO:noreply@facebookmail.com
END:VEVENT
BEGIN:VEVENT
DTSTART;TZID=America/Chicago:20250824T140000
DTEND;TZID=America/Chicago:20250824T180000
DTSTAMP:20260424T204637
CREATED:20250814T153646Z
LAST-MODIFIED:20250821T153101Z
UID:32210-1756044000-1756058400@orangeworthy.com
SUMMARY:War Wagon Member Social
DESCRIPTION:It’s time to kick back with the War Wagon regulars. \nIf you’re a member\, you’re hang.
URL:https://orangeworthy.com/event/war-wagon-member-social/
LOCATION:8480 HWY 87 N\, Orange\, TX\, United States\, Texas
ORGANIZER;CN="War Wagon Cigar Lounge":MAILTO:noreply@facebookmail.com
END:VEVENT
BEGIN:VEVENT
DTSTART;TZID=America/Chicago:20250824T103000
DTEND;TZID=America/Chicago:20250824T133000
DTSTAMP:20260424T204637
CREATED:20250814T153646Z
LAST-MODIFIED:20250821T153100Z
UID:32209-1756031400-1756042200@orangeworthy.com
SUMMARY:Guest Speaker: Rick Shelton
DESCRIPTION:Pastors Rick and Donna travel across the nation and around the world\, encouraging and equipping pastors and leaders to fulfill their God-given callings. You do not want to miss this powerful service! Childcare provided for 6 & under
URL:https://orangeworthy.com/event/guest-speaker-rick-shelton/
LOCATION:1030 N Main St\, Vidor\, TX\, United States\, Texas 77662
ORGANIZER;CN="Grace Community Church":MAILTO:noreply@facebookmail.com
END:VEVENT
BEGIN:VEVENT
DTSTART;TZID=America/Chicago:20250823T213000
DTEND;TZID=America/Chicago:20250824T003000
DTSTAMP:20260424T204637
CREATED:20250814T153645Z
LAST-MODIFIED:20250821T153059Z
UID:32208-1755984600-1755995400@orangeworthy.com
SUMMARY:ALTER EGO @ Brick & Barley - SAT 8/23
DESCRIPTION:The Brick welcomes ALTER EGO this Saturday\, 8/23! Join us for the best in 80’s through today’s xlassic & alternative rock hits! Come out for cold drinks\, good friends\, and a great show‼️🤘😝🤘Downbeat at 9:30! 🎶🔥✌️NO COVER21 & Up  \n#BrickandBarleyOrangeTexas#SupportLocalMusic
URL:https://orangeworthy.com/event/alter-ego-brick-and-barley-sat-8-23/
LOCATION:2614 Lutcher Dr\, Orange\, TX 77632-1615\, United States
ORGANIZER;CN="AlterEgo.Beaumont":MAILTO:noreply@facebookmail.com
END:VEVENT
BEGIN:VEVENT
DTSTART;TZID=America/Chicago:20250823T210000
DTEND;TZID=America/Chicago:20250824T010000
DTSTAMP:20260424T204637
CREATED:20250821T153059Z
LAST-MODIFIED:20250821T153059Z
UID:32344-1755982800-1755997200@orangeworthy.com
SUMMARY:The Outliers
DESCRIPTION:The OutliersSaturdayAugust 23\, 20259 pm to – am@ Texas Ave Tavern 21 & up ONLY
URL:https://orangeworthy.com/event/the-outliers/
LOCATION:Texas Ave. Tavern\, 2845 Texas Ave Ste 500\, Bridge City\, TX\, 77611\, US
ORGANIZER;CN="Texas Ave. Tavern":MAILTO:noreply@facebookmail.com
END:VEVENT
BEGIN:VEVENT
DTSTART;TZID=America/Chicago:20250823T193000
DTEND;TZID=America/Chicago:20250823T223000
DTSTAMP:20260424T204637
CREATED:20250821T153058Z
LAST-MODIFIED:20250821T153058Z
UID:32343-1755977400-1755988200@orangeworthy.com
SUMMARY:Roy Boy Collins
DESCRIPTION:Live music on the patio
URL:https://orangeworthy.com/event/roy-boy-collins/
LOCATION:1703 North 16 th Street \, Orange\, TX\, United States\, Texas 77630
ORGANIZER;CN="Spanky's Bar & Grill":MAILTO:noreply@facebookmail.com
END:VEVENT
BEGIN:VEVENT
DTSTART;TZID=America/Chicago:20250823T193000
DTEND;TZID=America/Chicago:20250823T223000
DTSTAMP:20260424T204637
CREATED:20250814T153645Z
LAST-MODIFIED:20250821T153058Z
UID:32207-1755977400-1755988200@orangeworthy.com
SUMMARY:"We Are The Golden Triangle Big Band" w/ The Golden Triangle Big Band
DESCRIPTION:✨ The GTBB Presents: “We Are the Golden Triangle Big Band” ✨ \nA showcase of the sound\, spirit\, and mission behind The Golden Triangle Big forward. \n🎶 Come celebrate our sound\, our story\, and the heartbeat of Golden Triangle jazz. 🎶
URL:https://orangeworthy.com/event/we-are-the-golden-triangle-big-band-w-the-golden-triangle-big-band/
LOCATION:Jefferson Theatre\, 345 Fannin Street\, Beaumont\, TX\, 77701\, US
ORGANIZER;CN="The Golden Triangle Big Band":MAILTO:noreply@facebookmail.com
END:VEVENT
BEGIN:VEVENT
DTSTART;TZID=America/Chicago:20250823T190000
DTEND;TZID=America/Chicago:20250823T210000
DTSTAMP:20260424T204637
CREATED:20250703T154352Z
LAST-MODIFIED:20250821T153057Z
UID:31540-1755975600-1755982800@orangeworthy.com
SUMMARY:Let's Glow back 2 school dance for 4th thru 6th
DESCRIPTION:Fun way for kids going into 4th thru 6th Grade to celebrate back to school � Reserve at
URL:https://orangeworthy.com/event/lets-glow-back-2-school-dance-for-4th-thru-6th/
LOCATION:The Oaks Event Center
ORGANIZER;CN="The Oaks Event Center":MAILTO:noreply@facebookmail.com
END:VEVENT
BEGIN:VEVENT
DTSTART;TZID=America/Chicago:20250823T180000
DTEND;TZID=America/Chicago:20250823T210000
DTSTAMP:20260424T204637
CREATED:20250511T200810Z
LAST-MODIFIED:20250821T153057Z
UID:29965-1755972000-1755982800@orangeworthy.com
SUMMARY:Gen Z Rally
DESCRIPTION:God is moving in Gen Z! They are coming up and out of every trap the enemy has laid for them. What many have considered a lost cause is beginning to shake the gates of hell. Gen Z\, it is your time!
URL:https://orangeworthy.com/event/gen-z-rally/
LOCATION:1030 N Main St\, Vidor\, TX
ORGANIZER;CN="Grace Community Church":MAILTO:noreply@facebookmail.com
END:VEVENT
BEGIN:VEVENT
DTSTART;TZID=America/Chicago:20250823T170000
DTEND;TZID=America/Chicago:20250823T193000
DTSTAMP:20260424T204637
CREATED:20250807T160656Z
LAST-MODIFIED:20250821T153056Z
UID:32088-1755968400-1755977400@orangeworthy.com
SUMMARY:BRIAN WINFIELD @ FREE STATE CELLARS
DESCRIPTION:🎶BRIAN WINFIELD LIVE @ FREE STATE CELLARS \nLive music every Saturday at Free State Cellars!Join us on August 23 from 5:00 – 7:30 PM as we welcome Brian Winfield to the vineyard stage. Bring a friend\, grab a glass\, and unwind with great music in a beautiful setting.
URL:https://orangeworthy.com/event/brian-winfield-free-state-cellars-2/
LOCATION:Free State Cellars Winery
ORGANIZER;CN="Free State Cellars Winery":MAILTO:noreply@facebookmail.com
END:VEVENT
BEGIN:VEVENT
DTSTART;TZID=America/Chicago:20250823T163000
DTEND;TZID=America/Chicago:20250823T193000
DTSTAMP:20260424T204637
CREATED:20250821T153055Z
LAST-MODIFIED:20250821T153055Z
UID:32340-1755966600-1755977400@orangeworthy.com
SUMMARY:Abstract Photography Field Trip
DESCRIPTION:Beaumont Camera Club members we will be meeting in front of the Jefferson Theatre in downtown Beaumont this Saturday at 4:30 PM to enjoy a saunter through our fair city to focus on abstract photography.  \nWe hope to have a great turn out for this event and bring a friend if you can!!!!  \nCome on out and let’s get abstract!!!!  \n📸📸📸📸
URL:https://orangeworthy.com/event/abstract-photography-field-trip/
LOCATION:Jefferson Theatre\, 345 Fannin Street\, Beaumont\, TX\, 77701\, US
END:VEVENT
BEGIN:VEVENT
DTSTART;TZID=America/Chicago:20250823T160000
DTEND;TZID=America/Chicago:20250823T180000
DTSTAMP:20260424T204637
CREATED:20250814T153643Z
LAST-MODIFIED:20250821T153055Z
UID:32205-1755964800-1755972000@orangeworthy.com
SUMMARY:Wet-N-Wild Back to School Party
DESCRIPTION:Can you believe summer break is over!?  \nBring your towel and expect to have fun on Saturday August 23rd from 4pm to 6pm! All are welcome! Invite your school friends!
URL:https://orangeworthy.com/event/wet-n-wild-back-to-school-party/
LOCATION:340 Bland Dr\, Bridge City\, TX
ORGANIZER;CN="Second Baptist Church%2C Bridge City%2C TX":MAILTO:noreply@facebookmail.com
END:VEVENT
BEGIN:VEVENT
DTSTART;TZID=America/Chicago:20250823T130000
DTEND;TZID=America/Chicago:20250823T220000
DTSTAMP:20260424T204637
CREATED:20250814T153643Z
LAST-MODIFIED:20250821T153054Z
UID:32204-1755954000-1755986400@orangeworthy.com
SUMMARY:🎉 Spin the Wheel Saturday! 🎉
DESCRIPTION:Join us on Saturday\, August 23rd\, from 1pm to 10pm for a fun-filled day of surprises and exclusive deals. Spin the wheel for a chance to win amazing discounts\, free accessories\, and even limited-edition cigars! \nWhether you’re a seasoned smoker or new to the lounge\, there’s something for everyone. Plus\, enjoy the great atmosphere\, fantastic company\, and some awesome prizes! 🎁 \nDon’t miss out on this exciting event—bring your friends\, grab a drink\, and let’s make this Saturday one to remember! \n🕐 Time: 1pm – 10pm📍 Where: War Wagon Cigar Lounge \n#SpinTheWheelSaturday #CigarFun #WarWagonLounge #CigarDeals #CigarsAndGoodTimes
URL:https://orangeworthy.com/event/%f0%9f%8e%89-spin-the-wheel-saturday-%f0%9f%8e%89/
LOCATION:8480 HWY 87 N\, Orange\, TX
ORGANIZER;CN="War Wagon Cigar Lounge":MAILTO:noreply@facebookmail.com
END:VEVENT
BEGIN:VEVENT
DTSTART;TZID=America/Chicago:20250823T110000
DTEND;TZID=America/Chicago:20250823T150000
DTSTAMP:20260424T204637
CREATED:20250821T153052Z
LAST-MODIFIED:20250821T153052Z
UID:32337-1755946800-1755961200@orangeworthy.com
SUMMARY:Deweyville Pirate Pals Cheerleading
DESCRIPTION:���ATTENTION PIRATE PAL CHEERLEADERS! Update: new due date Friday August 22 \nPirate pal papers will be sent home tomorrow with our elementary students and be due Friday. We went ahead and ordered a certain amount of shirts and will have a limited number so that we could push back registration deadline and increase participation.  \nDYFA- can come when you get back from certifications and I have cheerleaders staying after 1:00 especially for them! DYFA show offs for parents will be at 4:00- I have made DYFA their own schedule so they will still get to paint\, cheer\, dance\, participate in the peprally and the game—all the things) \nShow offs for regular participants and parents will be at 12:45 \nIf for some crazy reason we run out of shirts but you paid regular price I will issue a refund for the shirt\, but I believe I have ordered plenty.  \nBe sure to turn in your registration paper by FRIDAY!
URL:https://orangeworthy.com/event/deweyville-pirate-pals-cheerleading/
LOCATION:43200 Hwy 87 S\, Orange\, TX
END:VEVENT
BEGIN:VEVENT
DTSTART;TZID=America/Chicago:20250823T110000
DTEND;TZID=America/Chicago:20250823T140000
DTSTAMP:20260424T204637
CREATED:20250814T153642Z
LAST-MODIFIED:20250821T153052Z
UID:32203-1755946800-1755957600@orangeworthy.com
SUMMARY:JACK AND JILL TOURNAMENT\, NO SKILL LIMIT
DESCRIPTION:Exciting tournament and birthday celebration! What a combination! Sure to be a blast!
URL:https://orangeworthy.com/event/jack-and-jill-tournament-no-skill-limit/
LOCATION:8379 TX-87\, Orange\, TX
ORGANIZER;CN="Cotton%E2%80%99s Cay":MAILTO:noreply@facebookmail.com
END:VEVENT
BEGIN:VEVENT
DTSTART;TZID=America/Chicago:20250823T095000
DTEND;TZID=America/Chicago:20250823T125000
DTSTAMP:20260424T204637
CREATED:20250807T160655Z
LAST-MODIFIED:20250821T153051Z
UID:32086-1755942600-1755953400@orangeworthy.com
SUMMARY:Free Community Workout
DESCRIPTION:Come join Coach Jana for our FREE Community Workout! Anyone 14 & up is welcome\, so get your weekend started off right with our 30 minute Stamina class! A supervised kid’s corner is provided!🙂 We have you covered – no excuses! Class starts promptly at 10am so please arrive
URL:https://orangeworthy.com/event/free-community-workout/
LOCATION:3509 Edgar Brown Dr\, Orange\, TX\, United States\, Texas 77630
ORGANIZER;CN="Delta Life Fitness - Orange County%2C TX":MAILTO:noreply@facebookmail.com
END:VEVENT
BEGIN:VEVENT
DTSTART;TZID=America/Chicago:20250823T090000
DTEND;TZID=America/Chicago:20250823T130000
DTSTAMP:20260424T204637
CREATED:20250814T153641Z
LAST-MODIFIED:20250821T153051Z
UID:32201-1755939600-1755954000@orangeworthy.com
SUMMARY:Sargent St Market
DESCRIPTION:Sergeant Street market is an open air vendor market; featuring barbecue\, local vendors\, small business\, produce(snl)\, and baked
URL:https://orangeworthy.com/event/sargent-st-market-2/
LOCATION:105 Sargent St\, Vidor\, TX 77662\, Vidor\, TX
ORGANIZER;CN="Sargent St Market":MAILTO:noreply@facebookmail.com
END:VEVENT
BEGIN:VEVENT
DTSTART;TZID=America/Chicago:20250823T080000
DTEND;TZID=America/Chicago:20250823T110000
DTSTAMP:20260424T204637
CREATED:20250814T153640Z
LAST-MODIFIED:20250821T153050Z
UID:32200-1755936000-1755946800@orangeworthy.com
SUMMARY:Bridge City Farmer's Market
DESCRIPTION:⏳ Just days away! \nBridge City Farmer’s Market – August 23rd\, 8–11 AM\, 101
URL:https://orangeworthy.com/event/bridge-city-farmers-market/
LOCATION:101 Parkside Drive\, Bridge City\, TX\, United States\, Texas 77611
ORGANIZER;CN="Bridge City Farmer's Market":MAILTO:noreply@facebookmail.com
END:VEVENT
BEGIN:VEVENT
DTSTART;TZID=America/Chicago:20250823T073000
DTEND;TZID=America/Chicago:20250823T110000
DTSTAMP:20260424T204637
CREATED:20250723T205956Z
LAST-MODIFIED:20250821T153050Z
UID:31857-1755934200-1755946800@orangeworthy.com
SUMMARY:COMMUNITY HARVEST 2025
DESCRIPTION:Now’s your chance to experience the most hands-on part of our wine making: COMMUNITY HARVEST!Saturday\, August 23 • 7:30 am -11 am. No ticket or registration needed; this is a free event! \nOn Saturday\, August 23 we will be hosting our Community Harvest from 7:30 am -11 am. Event information is listed below along with helpful tips about harvesting at a working farm. We are excited to open our vineyard and show the Golden Triangle what it means to be part of the Free State Cellars Family! \n-ITINERARY-7:30 am – T-shirt pick up: Guests will sign in and receive a Harvest shirt (while supplies last) and be welcomed to the Free State!7:35 am – Harvesting DEMONSTRATION & Group Photo!7:40 am – 9:45 am – HARVEST! The Free State Cellars Family will be working alongside you. Their role is to assist\, guide and answer any questions you may have!9:45 am – Complimentary BRUNCH AND ENTERTAINMENT for our harvesters. The food will be catered and live music by TBA. There will also be a grape stomping photo opportunity during this time! **Please note: we only feed our helpers!** \nOur tasting room will remain open for full service from 11pm – 8pm \n–IMPORTANT INFORMATION–CHILDREN: We are family friendly\, and children are more than welcome to participate but MUST be supervised at all clothing. \nTOPOGRAPHY: Free State Cellars is a working vineyard. This event entails walking on unlevel grassy fatal. \nWILDLIFE: We are a working farm and coexist with the wildlife on Adams Bayou. Wild animals\, bees\, ants\, and various insects are occasionally present in the vineyard. We ask that you stay aware of your surroundings and remove yourself from any hazardous encounter. We do not permit swimming on our property at any time and ask that you stay away from water
URL:https://orangeworthy.com/event/community-harvest-2025-2/
LOCATION:4702 Tejas Parkway\, Orange\, TX\, United States\, Texas 77632
ORGANIZER;CN="Free State Cellars Winery":MAILTO:noreply@facebookmail.com
END:VEVENT
BEGIN:VEVENT
DTSTART;TZID=America/Chicago:20250823T030000
DTEND;TZID=America/Chicago:20250824T100000
DTSTAMP:20260424T204637
CREATED:20250814T153638Z
LAST-MODIFIED:20250821T153049Z
UID:32197-1755918000-1756029600@orangeworthy.com
SUMMARY:FBC Deweyville 4th Annual Fall Craft and Vendor Fair
DESCRIPTION:We are excited to be hosting our 4th Annual Craft and Vendor Fair. We are still accepting vendors. If you are interested in being a vendor reach out to Katie Knobloch or Erin Sanderson. We look forward to seeing our business owners and shoppers!! \nIf you have any questions or you’re interested in renting a spot \, please contact us directly Application will only come from me or Email sherrytunner7@gmail.com don’t message anyone else for application if you don’t want to get scammed
URL:https://orangeworthy.com/event/fbc-deweyville-4th-annual-fall-craft-and-vendor-fair/
LOCATION:Deweyville First Baptist Church
END:VEVENT
BEGIN:VEVENT
DTSTART;TZID=America/Chicago:20250822T190000
DTEND;TZID=America/Chicago:20250822T220000
DTSTAMP:20260424T204637
CREATED:20250814T153638Z
LAST-MODIFIED:20250821T153048Z
UID:32196-1755889200-1755900000@orangeworthy.com
SUMMARY:Classic Movie Night -  Matilda
DESCRIPTION:Doors 6pmFilm 7pm \nTickets can be purchased ahead of time at the Beaumont Civic Center box office or online now at the buy tickets link admission. \nConcessions are available for headmistress.– Courtesy of IMDb \nClassic Movie Nights are supported by agents. \nIf you purchase tickets from an unauthorized agent in the secondary market (scalper\, ticket broker\, etc) you risk purchasing counterfeit or invalid tickets. Please use caution when purchasing tickets not from the Beaumont Civic Center Box Office or any website other than www.ticketmaster.com. Guests who purchase invalid tickets from the re-sale site must contact that vendor for
URL:https://orangeworthy.com/event/classic-movie-night-matilda/
LOCATION:Jefferson Theatre\, 345 Fannin Street\, Beaumont\, TX\, 77701\, US
ORGANIZER;CN="Ticketmaster Events":MAILTO:noreply@facebookmail.com
END:VEVENT
BEGIN:VEVENT
DTSTART;TZID=America/Chicago:20250822T180000
DTEND;TZID=America/Chicago:20250822T200000
DTSTAMP:20260424T204637
CREATED:20250821T153047Z
LAST-MODIFIED:20250821T153047Z
UID:32334-1755885600-1755892800@orangeworthy.com
SUMMARY:Crossroads Trio at Two Amigos\, Orange
DESCRIPTION:The Crossroads Trio takes the stage again at Two Amigos in Orange! Great food and great music!!!
URL:https://orangeworthy.com/event/crossroads-trio-at-two-amigos-orange-4/
LOCATION:Two Amigos Mexican Restaurant
ORGANIZER;CN="Crossroads Band":MAILTO:noreply@facebookmail.com
END:VEVENT
BEGIN:VEVENT
DTSTART;TZID=America/Chicago:20250821T180000
DTEND;TZID=America/Chicago:20250821T210000
DTSTAMP:20260424T204637
CREATED:20250814T153637Z
LAST-MODIFIED:20250821T153047Z
UID:32195-1755799200-1755810000@orangeworthy.com
SUMMARY:2025 Master Gardeners’ Class
DESCRIPTION:We are excited to get this season started! If you have ever wanted to be a Master Gardener\, there is still time to sign up for this year! We still have some available seats open for you to be able to join us!Contact Wendy at the TxAgriLife office at the Expo office to get your last minute application process done and taken care of. She can help you with the last minute details. Paperwork and details of introduction will be on this Thursday\, Aug. 7th.
URL:https://orangeworthy.com/event/2025-master-gardeners-class/
LOCATION:Orange County Convention & Expo Center
ORGANIZER;CN="Misty BornholdtStudio":MAILTO:noreply@facebookmail.com
END:VEVENT
BEGIN:VEVENT
DTSTART;TZID=America/Chicago:20250821T170000
DTEND;TZID=America/Chicago:20250821T200000
DTSTAMP:20260424T204637
CREATED:20250821T153046Z
LAST-MODIFIED:20250821T153046Z
UID:32332-1755795600-1755806400@orangeworthy.com
SUMMARY:Third Thursdays at the Meadery
DESCRIPTION:Open to the public\, no appointment or reservation needed! On the Third Thursday of every month\, we will be serving up the best meads to the public by way of tasting flights and glass pours! From 5PM-8PM show up and help support us while thoroughly enjoying the fruits of our labor! Come as you are…BUT\, if you show up in your best RenFair garb…you get a 10% discount! So show up and show out…we will see you there!
URL:https://orangeworthy.com/event/third-thursdays-at-the-meadery/
LOCATION:2801 Linscomb Rd.\, Orange\, TX
ORGANIZER;CN="Hammered Honey Farms and Mead":MAILTO:noreply@facebookmail.com
END:VEVENT
BEGIN:VEVENT
DTSTART;TZID=America/Chicago:20250819T180000
DTEND;TZID=America/Chicago:20250819T210000
DTSTAMP:20260424T204637
CREATED:20250814T153636Z
LAST-MODIFIED:20250814T153729Z
UID:32193-1755626400-1755637200@orangeworthy.com
SUMMARY:USA SOFTBALL MEETING
DESCRIPTION:Informational meeting about USA softball.
URL:https://orangeworthy.com/event/usa-softball-meeting/
LOCATION:101 Parkside Drive\, Bridge City\, TX
END:VEVENT
BEGIN:VEVENT
DTSTART;TZID=America/Chicago:20250819T173000
DTEND;TZID=America/Chicago:20250819T203000
DTSTAMP:20260424T204637
CREATED:20250723T205955Z
LAST-MODIFIED:20250814T153729Z
UID:31855-1755624600-1755635400@orangeworthy.com
SUMMARY:Stark Cultural Venues Volunteer Fair
DESCRIPTION:Our volunteers are the secret ingredient to our success! ❤️ Come learn about volunteer opportunities at the Stark Museum of Art\, The W.H. Stark House\, Shangri La Botanical Gardens and Lutcher Theater. Current and prospective volunteers are invited to join us – pizza will be served! 🍕⁠⁠🗓️ Tuesday\, August 19\, at 5:30PM⁠📍 Lutcher Theater⁠💫 Visit starkculturalvenues.org/volunteers to learn more!
URL:https://orangeworthy.com/event/stark-cultural-venues-volunteer-fair/
LOCATION:707 Main Ave\, Orange\, TX 77630-5700\, United States
ORGANIZER;CN="Lutcher Theater":MAILTO:noreply@facebookmail.com
END:VEVENT
BEGIN:VEVENT
DTSTART;TZID=America/Chicago:20250817T193000
DTEND;TZID=America/Chicago:20250817T223000
DTSTAMP:20260424T204637
CREATED:20250814T153635Z
LAST-MODIFIED:20250814T153728Z
UID:32192-1755459000-1755469800@orangeworthy.com
SUMMARY:Seth Stevens and Troy Johnson
DESCRIPTION:It is 3rd Sunday of the month and time for Seth and Troy !!! Always a great time so be here !!!
URL:https://orangeworthy.com/event/seth-stevens-and-troy-johnson-2/
LOCATION:2095 Texas Ave\, Bridge City\, TX
ORGANIZER;CN="The Silver Fox":MAILTO:noreply@facebookmail.com
END:VEVENT
BEGIN:VEVENT
DTSTART;TZID=America/Chicago:20250817T180000
DTEND;TZID=America/Chicago:20250817T200000
DTSTAMP:20260424T204637
CREATED:20250807T160653Z
LAST-MODIFIED:20250814T153728Z
UID:32084-1755453600-1755460800@orangeworthy.com
SUMMARY:August Meet-Up: Northway Park
DESCRIPTION:Join us for our very first Sober Girls Social Club meet-up! We are kicking off with a low-key\, low-stakes meetup to walk\, talk\, mingle\, and meet!  \nThis group is all about building community and creating a sober space where women feel seen\, supported\, and celebrated.  \nWhether you’re just looking to have fun alcohol-free\, stepping into recovery\, or years into your journey\, you’re welcome here! ♥️ \n🗓 Sunday\, August 17🕕 6:00–8:00 PM📍 Northway Park \nBring water\, comfy shoes\, and a friend if you’d like. We can’t wait to meet you! 🫶🏼 \nLET’S GET SOCIAL!
URL:https://orangeworthy.com/event/august-meet-up-northway-park/
LOCATION:Northway Park
END:VEVENT
BEGIN:VEVENT
DTSTART;TZID=America/Chicago:20250817T180000
DTEND;TZID=America/Chicago:20250817T200000
DTSTAMP:20260424T204637
CREATED:20250807T160646Z
LAST-MODIFIED:20250814T153728Z
UID:32073-1755453600-1755460800@orangeworthy.com
SUMMARY:bunco junkies dress as your favorite colored crayon.
DESCRIPTION:come play bunco. Easy peasy.No experience required. No children\, No men. $20 Pay at the door. bring a snack and a drink if you want. JoinBunco Junkies @the Oaks. let us know if yourattending. Prizes given to winners\,losers\, Who has the bird\, Most buncos. drawing for door prizes\, theme participating and for playing. Lots of laughter and friendships made with no obligation. We play tournament style.
URL:https://orangeworthy.com/event/bunco-junkies-dress-as-your-favorite-colored-crayon/
LOCATION:The Oaks Event Center
ORGANIZER;CN="Ettie Germaine Thompson":MAILTO:noreply@facebookmail.com
END:VEVENT
END:VCALENDAR