BEGIN:VCALENDAR
VERSION:2.0
PRODID:-//Orange County Local Scoop - ECPv6.15.20//NONSGML v1.0//EN
CALSCALE:GREGORIAN
METHOD:PUBLISH
X-WR-CALNAME:Orange County Local Scoop
X-ORIGINAL-URL:https://orangeworthy.com
X-WR-CALDESC:Events for Orange County Local Scoop
REFRESH-INTERVAL;VALUE=DURATION:PT1H
X-Robots-Tag:noindex
X-PUBLISHED-TTL:PT1H
BEGIN:VTIMEZONE
TZID:America/Chicago
BEGIN:DAYLIGHT
TZOFFSETFROM:-0600
TZOFFSETTO:-0500
TZNAME:CDT
DTSTART:20240310T080000
END:DAYLIGHT
BEGIN:STANDARD
TZOFFSETFROM:-0500
TZOFFSETTO:-0600
TZNAME:CST
DTSTART:20241103T070000
END:STANDARD
BEGIN:DAYLIGHT
TZOFFSETFROM:-0600
TZOFFSETTO:-0500
TZNAME:CDT
DTSTART:20250309T080000
END:DAYLIGHT
BEGIN:STANDARD
TZOFFSETFROM:-0500
TZOFFSETTO:-0600
TZNAME:CST
DTSTART:20251102T070000
END:STANDARD
BEGIN:DAYLIGHT
TZOFFSETFROM:-0600
TZOFFSETTO:-0500
TZNAME:CDT
DTSTART:20260308T080000
END:DAYLIGHT
BEGIN:STANDARD
TZOFFSETFROM:-0500
TZOFFSETTO:-0600
TZNAME:CST
DTSTART:20261101T070000
END:STANDARD
END:VTIMEZONE
BEGIN:VEVENT
DTSTART;TZID=America/Chicago:20250831T100000
DTEND;TZID=America/Chicago:20250831T130000
DTSTAMP:20260424T152056
CREATED:20250814T153650Z
LAST-MODIFIED:20250828T161244Z
UID:32216-1756634400-1756645200@orangeworthy.com
SUMMARY:Water Baptism Sunday – August 31
DESCRIPTION:💧 Water Baptism – Dominion Church International (Orange Campus)📅 Sunday\, August 31\, 2025🕙 10:00 AM📍 Dominion Church International – Orange Campus1311 N. 10th Street\, Orange\, TX 77630 \nBaptism is an outward expression of the inward work God has done in your life. It’s a public declaration that you have decided to follow Jesus and are leaving your old life https://link.dciorange.org/widget/form/Ze6Ho4WXI51eOySNppih \nCome ready for a powerful service as we worship together\, witness lives changed\, and rejoice in the new life found in Christ!
URL:https://orangeworthy.com/event/water-baptism-sunday-august-31/
LOCATION:1311 N. 10th Street\, Orange\, TX\, United States\, Texas 77630
END:VEVENT
BEGIN:VEVENT
DTSTART;TZID=America/Chicago:20250830T213000
DTEND;TZID=America/Chicago:20250831T003000
DTSTAMP:20260424T152056
CREATED:20250828T161243Z
LAST-MODIFIED:20250828T161243Z
UID:32977-1756589400-1756600200@orangeworthy.com
SUMMARY:Layne Allen & Life Without Parole at Brick & Barley (Sat\, 8/30/25)
DESCRIPTION:Brick & Barley has a stellar night of music lined up this Saturday\, 8/30.Layne Allen & Life Without Parole will be serving up a plethora of classic to current country and red dirt starting at 9:30. NO COVER. 21+ \n#layneallenmusic#lifewithoutparole#brickandbarleyorangetexas #setxlivemusic #supportlocal  \n***Karaoke every Thursday & Friday \nLive music coming to The Brick: \nSAT\, 8/30: Layne Allen & Life Without Parole Wed\, 9/3: JP Primeaux Wed\, 9/10: Brian Winfield SAT\, 9/13: Chip Darby & Vintage Soul Wed\, 9/17: Rusty JamesSAT\, 9/20: Spellbound Wed\, 9/24: Southern Made DuoSAT\, 9/27: Shinoak SAT\, 10/11: Cadillac Possum SAT\, 10/18: 4 Way Split SAT\, 10/25: Melon Jelly SAT\, 11/15: Barbara Hickey & The Daybreakers SAT\, 12/20: Benny & The Rest  \nEnjoy the music!
URL:https://orangeworthy.com/event/layne-allen-life-without-parole-at-brick-barley-sat-8-30-25/
LOCATION:2614 Lutcher Drive\, Orange\, TX
ORGANIZER;CN="Brick And Barley":MAILTO:noreply@facebookmail.com
END:VEVENT
BEGIN:VEVENT
DTSTART;TZID=America/Chicago:20250830T210000
DTEND;TZID=America/Chicago:20250831T010000
DTSTAMP:20260424T152056
CREATED:20250828T161243Z
LAST-MODIFIED:20250828T161243Z
UID:32976-1756587600-1756602000@orangeworthy.com
SUMMARY:Spellbound
DESCRIPTION:Spellbound@ Texas Ave Tavern Saturday August 30\, 20259 pm to 1 am21 & up ONLY
URL:https://orangeworthy.com/event/spellbound/
LOCATION:2845 Texas Ave Ste 500\, Bridge City\, TX
ORGANIZER;CN="Texas Ave. Tavern":MAILTO:noreply@facebookmail.com
END:VEVENT
BEGIN:VEVENT
DTSTART;TZID=America/Chicago:20250830T203000
DTEND;TZID=America/Chicago:20250830T233000
DTSTAMP:20260424T152056
CREATED:20250828T161242Z
LAST-MODIFIED:20250828T161242Z
UID:32975-1756585800-1756596600@orangeworthy.com
SUMMARY:Tunes on the bayou with Roy Boy\, Sarah\, and the Killin' Time Band!
DESCRIPTION:No plans Labor Day weekend? Come to the bayou for some awesome music and a fun night- Saturday\, August 30th!#livemusic #bayoulife #localmusic #supportlocalmusic #supportlocal #localmusicians
URL:https://orangeworthy.com/event/tunes-on-the-bayou-with-roy-boy-sarah-and-the-killin-time-band/
LOCATION:1804 Mississippi St\, Orange\, TX\, United States\, Texas 77630
ORGANIZER;CN="Cove Marina & Boat Storage":MAILTO:noreply@facebookmail.com
END:VEVENT
BEGIN:VEVENT
DTSTART;TZID=America/Chicago:20250830T200000
DTEND;TZID=America/Chicago:20250830T230000
DTSTAMP:20260424T152056
CREATED:20250828T161242Z
LAST-MODIFIED:20250828T161242Z
UID:32974-1756584000-1756594800@orangeworthy.com
SUMMARY:Karaoke with Royal Oaks
DESCRIPTION:Saturdays at the Fox are for Karaoke !!! Kicking off this week at 8 pm ! Royal Oaks will be bringing your favorite tunes and you can bring the voice!!!
URL:https://orangeworthy.com/event/karaoke-with-royal-oaks-3/
LOCATION:2095 Texas Ave\, Bridge City\, TX
ORGANIZER;CN="The Silver Fox":MAILTO:noreply@facebookmail.com
END:VEVENT
BEGIN:VEVENT
DTSTART;TZID=America/Chicago:20250830T200000
DTEND;TZID=America/Chicago:20250830T230000
DTSTAMP:20260424T152057
CREATED:20250821T153106Z
LAST-MODIFIED:20250828T161241Z
UID:32349-1756584000-1756594800@orangeworthy.com
SUMMARY:George Lopez
DESCRIPTION:Must be 21 and Over \nSale Dates and Times: \nPublic Onsale : Fri\, 7 Mar 2025 at 10:00 AM \nArtist Presale : Wed\, 5 Mar 2025 at 10:00 AM \nPENN Play Presale : Wed\, 5 Mar 2025 at 10:00 AM \nTicketmaster Presale : Wed\, 5 Mar 2025 at 10:00 AM
URL:https://orangeworthy.com/event/george-lopez/
LOCATION:L’Auberge Casino Resort Lake Charles
ORGANIZER;CN="Ticketmaster Events":MAILTO:noreply@facebookmail.com
END:VEVENT
BEGIN:VEVENT
DTSTART;TZID=America/Chicago:20250830T180000
DTEND;TZID=America/Chicago:20250830T220000
DTSTAMP:20260424T152057
CREATED:20250814T153650Z
LAST-MODIFIED:20250828T161241Z
UID:32215-1756576800-1756591200@orangeworthy.com
SUMMARY:🗣️ Debate Night at the Lounge! 🗣️
DESCRIPTION:One Rule: No Politics! \nJoin us Saturday\, August 30th\, from 6PM to 10PM for a night of fun\, friendly debates and good vibes! Whether you’re a seasoned debater or just in it for the laughs\, this is the perfect way to spend your Saturday
URL:https://orangeworthy.com/event/%f0%9f%97%a3%ef%b8%8f-debate-night-at-the-lounge-%f0%9f%97%a3%ef%b8%8f/
LOCATION:8480 HWY 87 N\, Orange\, TX\, United States\, Texas
ORGANIZER;CN="War Wagon Cigar Lounge":MAILTO:noreply@facebookmail.com
END:VEVENT
BEGIN:VEVENT
DTSTART;TZID=America/Chicago:20250830T170000
DTEND;TZID=America/Chicago:20250830T193000
DTSTAMP:20260424T152057
CREATED:20250807T160700Z
LAST-MODIFIED:20250828T161240Z
UID:32092-1756573200-1756582200@orangeworthy.com
SUMMARY:SARAH FUSSELL @ FREE STATE CELLARS
DESCRIPTION:🎶SARAH FUSELL LIVE @ FREE STATE CELLARS \nLive music every Saturday at Free State Cellars!Join us on August 30 from 5:30 – 7:30 PM as we welcome Sarah Fusell to the vineyard stage. Bring a friend\, grab a glass\, and unwind with great music in a beautiful setting.
URL:https://orangeworthy.com/event/sarah-fussell-free-state-cellars/
LOCATION:Free State Cellars Winery
ORGANIZER;CN="Free State Cellars Winery":MAILTO:noreply@facebookmail.com
END:VEVENT
BEGIN:VEVENT
DTSTART;TZID=America/Chicago:20250830T110000
DTEND;TZID=America/Chicago:20250830T140000
DTSTAMP:20260424T152057
CREATED:20250828T161240Z
LAST-MODIFIED:20250828T161240Z
UID:32972-1756551600-1756562400@orangeworthy.com
SUMMARY:M&D Supply Vidor Labor Day Party
DESCRIPTION:⭐️Come have some fun at your local M&D Supply this Labor Day weekend!⭐️ \n✨The M&D Supply Vidor Labor Day Party is a family-friendly FREE event✨ \n🖌🎨Create a Mason Jar Masterpiece🎨🖌-A fun activity for both kids and adults😃We will provide everything you need to create your work of art to take home! \n🔥Grilling demos🔥Enjoy smoked delectables fresh off of the Traeger grill-Sample with a variety of our Traeger seasonings and sauces! \n🤠DeWalt demos🤠 \n🎟Enter-To-Win🎟 our Blackstone ‼️GIVEAWAY‼️***Blackstone Nonstick Surface Tabletop Griddle***⭐️$180 Value⭐️ \n🗓️Date: August 30\, 2025⏰Time: 11 a.m. to 2 p.m.📍Location: M&D Supply Ace Hardware Vidor located at1230 North Main St\, Vidor\, TX 77662 \n📲Follow our page for updates and details regarding the event @mdsupplyacevidor
URL:https://orangeworthy.com/event/md-supply-vidor-labor-day-party/
LOCATION:1230 N Main St\, Vidor\, TX\, United States\, Texas 77662
ORGANIZER;CN="M&D Supply Ace Hardware Vidor":MAILTO:noreply@facebookmail.com
END:VEVENT
BEGIN:VEVENT
DTSTART;TZID=America/Chicago:20250829T140000
DTEND;TZID=America/Chicago:20250829T170000
DTSTAMP:20260424T152057
CREATED:20250828T161240Z
LAST-MODIFIED:20250828T161240Z
UID:32971-1756476000-1756486800@orangeworthy.com
SUMMARY:Noah Jackson & Neches River Band
DESCRIPTION:We are super excited to welcome this group to the Fox !!Come on out and show them some support !!!
URL:https://orangeworthy.com/event/noah-jackson-neches-river-band/
LOCATION:2095 Texas Ave\, Bridge City\, TX
ORGANIZER;CN="The Silver Fox":MAILTO:noreply@facebookmail.com
END:VEVENT
BEGIN:VEVENT
DTSTART;TZID=America/Chicago:20250828T193000
DTEND;TZID=America/Chicago:20250828T220000
DTSTAMP:20260424T152057
CREATED:20250807T160659Z
LAST-MODIFIED:20250828T161239Z
UID:32091-1756409400-1756418400@orangeworthy.com
SUMMARY:Our Town
DESCRIPTION:Join us for a timeless journey back to Grover’s Corners with Thornton Wilder’s Pulitzer Prize-winning play\, Our Town\, directed by the talented Craig Bertrand. This heartfelt production\, brought to life by the Orange Community Players\, captures the beauty of everyday life\, love\, and community in a way that resonates with audiences of all masterpiece. \nExpect a captivating performance filled with poignant moments\, authentic characters\, and a touch of nostalgia that will leave you reflecting on life’s simple joys. Craig Bertrand’s visionary direction promises a fresh yet faithful take on this American classic\, with a talented cast ready to transport you to a world where community and connection shine.Don’t miss this chance to experience a piece of theater history and support the Orange Community Players! Grab your tickets now and join us for an unforgettable evening of storytelling that celebrates the human spirit.  \n“Our Town” is presented by arrangement with Concord Theatricals on behalf of Samuel French\, Inc.
URL:https://orangeworthy.com/event/our-town/
LOCATION:3330 Bowling Ln\, Orange\, TX\, United States\, Texas 77630
ORGANIZER;CN="Orange Community Players%2C Inc.":MAILTO:noreply@facebookmail.com
END:VEVENT
BEGIN:VEVENT
DTSTART;TZID=America/Chicago:20250828T190000
DTEND;TZID=America/Chicago:20250828T220000
DTSTAMP:20260424T152057
CREATED:20250828T161239Z
LAST-MODIFIED:20250828T161239Z
UID:32970-1756407600-1756418400@orangeworthy.com
SUMMARY:This Thursday\, Benny and the Rest Returns to Bayou Cafe Vidor!
DESCRIPTION:Join Benny and the Rest at the Bayou Cafe Vidor!Reservations encouraged – (409) 498-4060
URL:https://orangeworthy.com/event/this-thursday-benny-and-the-rest-returns-to-bayou-cafe-vidor/
LOCATION:Bayou Cafe Vidor Tx
ORGANIZER;CN="Benny & The Rest":MAILTO:noreply@facebookmail.com
END:VEVENT
BEGIN:VEVENT
DTSTART;TZID=America/Chicago:20250828T173000
DTEND;TZID=America/Chicago:20250828T203000
DTSTAMP:20260424T152057
CREATED:20250703T154404Z
LAST-MODIFIED:20250828T161238Z
UID:31549-1756402200-1756413000@orangeworthy.com
SUMMARY:Fins\, Feathers\, and Fore: Guy's Night
DESCRIPTION:Join the Rotary Club of Bridge City – Orangefield for a night of good food\, cold drinks\, bingo games\, door prizes\, and more\, all while helping to raise money for scholarships and community projects! \nThursday\, August 28th Bridge City Community CenterDoors Open at 5:30Games Begin at 6:30 \nThere is limited seating available! Message us today to reserve your table or sponsorship!
URL:https://orangeworthy.com/event/fins-feathers-and-fore-guys-night/
LOCATION:105 Parkside Dr\, Bridge City\, TX\, United States\, Texas 77611
END:VEVENT
BEGIN:VEVENT
DTSTART;TZID=America/Chicago:20250828T070000
DTEND;TZID=America/Chicago:20250828T100000
DTSTAMP:20260424T152057
CREATED:20250807T160658Z
LAST-MODIFIED:20250828T161238Z
UID:32090-1756364400-1756375200@orangeworthy.com
SUMMARY:Campaign Kickoff Breakfast
DESCRIPTION:Join us as we kickoff our 2025 Campaign for funds to support healthy community\, youth opportunity\, financial security\, and community resiliency for Orange County. \nIf you are interested in learning more about the work that we do to support our community or how you and your organization can be involved\, we’d love to have you attend! \nBreakfast will be provided\, courtesy of First Financial https://lp.constantcontactpages.com/ev/reg/2pvupjf
URL:https://orangeworthy.com/event/campaign-kickoff-breakfast/
LOCATION:First Presbyterian Church\, 902 Green Ave\, Orange\, TX\, 77630-5618\, US
ORGANIZER;CN="United Way of Orange County":MAILTO:noreply@facebookmail.com
END:VEVENT
BEGIN:VEVENT
DTSTART;TZID=America/Chicago:20250825T190000
DTEND;TZID=America/Chicago:20250825T210000
DTSTAMP:20260424T152057
CREATED:20250807T160658Z
LAST-MODIFIED:20250821T153103Z
UID:32089-1756148400-1756155600@orangeworthy.com
SUMMARY:Audition Notice: Blithe Spirit
DESCRIPTION:Audition Dates: August 25th and 26th 7pmShow Dates: October 9th thru 19thDirected by: Chase SlaughterA smash comedy hit in London and New York\, this much-revived classic from the playwright of Private Lives concerns fussy\, cantankerous novelist Charles Condomine\, who has remarried but finds himself haunted (literally) by the ghost of his late first wife\, Elvira. Clever\, insistent and well aware of Charles’ shortcomings\, Elvira is called up by a visiting “happy medium\,” the eccentric and flighty Madame Arcati. As everyone’s personalities clash\, Charles’ current wife\, Ruth\, is accidentally killed. She “passes over” and joins Elvira\, allowing the two “blithe spirits” to haunt the hapless Charles into
URL:https://orangeworthy.com/event/audition-notice-blithe-spirit/
LOCATION:3330 Bowling Ln\, Orange\, TX\, United States\, Texas 77630
ORGANIZER;CN="Orange Community Players%2C Inc.":MAILTO:noreply@facebookmail.com
END:VEVENT
BEGIN:VEVENT
DTSTART;TZID=America/Chicago:20250824T193000
DTEND;TZID=America/Chicago:20250824T223000
DTSTAMP:20260424T152057
CREATED:20250821T153102Z
LAST-MODIFIED:20250821T153102Z
UID:32348-1756063800-1756074600@orangeworthy.com
SUMMARY:Music Bingo  and Karaoke w/ DJ Dickey
DESCRIPTION:It is that time again for all the fun !! Music Bingo Sunday !!!! Between rounds and after the game DJ Dickey will be bringing your favorite tunes and setting you up to sing !!!
URL:https://orangeworthy.com/event/music-bingo-and-karaoke-w-dj-dickey-2/
LOCATION:The Silver Fox\, 2095 Texas Ave\, Bridge City\, TX\, 77611\, US
ORGANIZER;CN="The Silver Fox":MAILTO:noreply@facebookmail.com
END:VEVENT
BEGIN:VEVENT
DTSTART;TZID=America/Chicago:20250824T150000
DTEND;TZID=America/Chicago:20250824T170000
DTSTAMP:20260424T152057
CREATED:20250605T161957Z
LAST-MODIFIED:20250821T153102Z
UID:31047-1756047600-1756054800@orangeworthy.com
SUMMARY:Stitch LuAu at the Oaks
DESCRIPTION:Get ready for a fun-filled event! Stitch is coming to the Oaks for a LuAu Dance Party\, complete with a DJ\, sno cones available\, prizes\, games\, and a concession bar. Tickets are $10 per child\, and parents attend for free. Visit www.theoakseventcenter.com to reserve your
URL:https://orangeworthy.com/event/stitch-luau-at-the-oaks/
LOCATION:2110 S. Main St.\, Vidor\, TX
ORGANIZER;CN="The Oaks Event Center":MAILTO:noreply@facebookmail.com
END:VEVENT
BEGIN:VEVENT
DTSTART;TZID=America/Chicago:20250824T140000
DTEND;TZID=America/Chicago:20250824T170000
DTSTAMP:20260424T152057
CREATED:20250821T153100Z
LAST-MODIFIED:20250821T153100Z
UID:32346-1756044000-1756054800@orangeworthy.com
SUMMARY:Studio Seventeen Grand Opening
DESCRIPTION:The countdown is on! We can’t wait to open the doors to our stunning new space and celebrate with our tribe!  \nJoin us Sunday\, August 24th from 2-5 PM for an exclusive first look at our brand new merch. \n– Plus\, we’ll have a limited number of S17 balloons for an extra touch of building. \nThere is so much fun to be had – you won’t want to miss it!
URL:https://orangeworthy.com/event/studio-seventeen-grand-opening/
LOCATION:1700 Allie Payne\, Orange\, TX\, United States\, Texas 77632
ORGANIZER;CN="Studio Seventeen":MAILTO:noreply@facebookmail.com
END:VEVENT
BEGIN:VEVENT
DTSTART;TZID=America/Chicago:20250824T140000
DTEND;TZID=America/Chicago:20250824T180000
DTSTAMP:20260424T152057
CREATED:20250814T153646Z
LAST-MODIFIED:20250821T153101Z
UID:32210-1756044000-1756058400@orangeworthy.com
SUMMARY:War Wagon Member Social
DESCRIPTION:It’s time to kick back with the War Wagon regulars. \nIf you’re a member\, you’re hang.
URL:https://orangeworthy.com/event/war-wagon-member-social/
LOCATION:8480 HWY 87 N\, Orange\, TX\, United States\, Texas
ORGANIZER;CN="War Wagon Cigar Lounge":MAILTO:noreply@facebookmail.com
END:VEVENT
BEGIN:VEVENT
DTSTART;TZID=America/Chicago:20250824T103000
DTEND;TZID=America/Chicago:20250824T133000
DTSTAMP:20260424T152057
CREATED:20250814T153646Z
LAST-MODIFIED:20250821T153100Z
UID:32209-1756031400-1756042200@orangeworthy.com
SUMMARY:Guest Speaker: Rick Shelton
DESCRIPTION:Pastors Rick and Donna travel across the nation and around the world\, encouraging and equipping pastors and leaders to fulfill their God-given callings. You do not want to miss this powerful service! Childcare provided for 6 & under
URL:https://orangeworthy.com/event/guest-speaker-rick-shelton/
LOCATION:1030 N Main St\, Vidor\, TX\, United States\, Texas 77662
ORGANIZER;CN="Grace Community Church":MAILTO:noreply@facebookmail.com
END:VEVENT
BEGIN:VEVENT
DTSTART;TZID=America/Chicago:20250823T213000
DTEND;TZID=America/Chicago:20250824T003000
DTSTAMP:20260424T152057
CREATED:20250814T153645Z
LAST-MODIFIED:20250821T153059Z
UID:32208-1755984600-1755995400@orangeworthy.com
SUMMARY:ALTER EGO @ Brick & Barley - SAT 8/23
DESCRIPTION:The Brick welcomes ALTER EGO this Saturday\, 8/23! Join us for the best in 80’s through today’s xlassic & alternative rock hits! Come out for cold drinks\, good friends\, and a great show‼️🤘😝🤘Downbeat at 9:30! 🎶🔥✌️NO COVER21 & Up  \n#BrickandBarleyOrangeTexas#SupportLocalMusic
URL:https://orangeworthy.com/event/alter-ego-brick-and-barley-sat-8-23/
LOCATION:2614 Lutcher Dr\, Orange\, TX 77632-1615\, United States
ORGANIZER;CN="AlterEgo.Beaumont":MAILTO:noreply@facebookmail.com
END:VEVENT
BEGIN:VEVENT
DTSTART;TZID=America/Chicago:20250823T210000
DTEND;TZID=America/Chicago:20250824T010000
DTSTAMP:20260424T152057
CREATED:20250821T153059Z
LAST-MODIFIED:20250821T153059Z
UID:32344-1755982800-1755997200@orangeworthy.com
SUMMARY:The Outliers
DESCRIPTION:The OutliersSaturdayAugust 23\, 20259 pm to – am@ Texas Ave Tavern 21 & up ONLY
URL:https://orangeworthy.com/event/the-outliers/
LOCATION:Texas Ave. Tavern\, 2845 Texas Ave Ste 500\, Bridge City\, TX\, 77611\, US
ORGANIZER;CN="Texas Ave. Tavern":MAILTO:noreply@facebookmail.com
END:VEVENT
BEGIN:VEVENT
DTSTART;TZID=America/Chicago:20250823T193000
DTEND;TZID=America/Chicago:20250823T223000
DTSTAMP:20260424T152057
CREATED:20250821T153058Z
LAST-MODIFIED:20250821T153058Z
UID:32343-1755977400-1755988200@orangeworthy.com
SUMMARY:Roy Boy Collins
DESCRIPTION:Live music on the patio
URL:https://orangeworthy.com/event/roy-boy-collins/
LOCATION:1703 North 16 th Street \, Orange\, TX\, United States\, Texas 77630
ORGANIZER;CN="Spanky's Bar & Grill":MAILTO:noreply@facebookmail.com
END:VEVENT
BEGIN:VEVENT
DTSTART;TZID=America/Chicago:20250823T193000
DTEND;TZID=America/Chicago:20250823T223000
DTSTAMP:20260424T152057
CREATED:20250814T153645Z
LAST-MODIFIED:20250821T153058Z
UID:32207-1755977400-1755988200@orangeworthy.com
SUMMARY:"We Are The Golden Triangle Big Band" w/ The Golden Triangle Big Band
DESCRIPTION:✨ The GTBB Presents: “We Are the Golden Triangle Big Band” ✨ \nA showcase of the sound\, spirit\, and mission behind The Golden Triangle Big forward. \n🎶 Come celebrate our sound\, our story\, and the heartbeat of Golden Triangle jazz. 🎶
URL:https://orangeworthy.com/event/we-are-the-golden-triangle-big-band-w-the-golden-triangle-big-band/
LOCATION:Jefferson Theatre\, 345 Fannin Street\, Beaumont\, TX\, 77701\, US
ORGANIZER;CN="The Golden Triangle Big Band":MAILTO:noreply@facebookmail.com
END:VEVENT
BEGIN:VEVENT
DTSTART;TZID=America/Chicago:20250823T190000
DTEND;TZID=America/Chicago:20250823T210000
DTSTAMP:20260424T152057
CREATED:20250703T154352Z
LAST-MODIFIED:20250821T153057Z
UID:31540-1755975600-1755982800@orangeworthy.com
SUMMARY:Let's Glow back 2 school dance for 4th thru 6th
DESCRIPTION:Fun way for kids going into 4th thru 6th Grade to celebrate back to school � Reserve at
URL:https://orangeworthy.com/event/lets-glow-back-2-school-dance-for-4th-thru-6th/
LOCATION:The Oaks Event Center
ORGANIZER;CN="The Oaks Event Center":MAILTO:noreply@facebookmail.com
END:VEVENT
BEGIN:VEVENT
DTSTART;TZID=America/Chicago:20250823T180000
DTEND;TZID=America/Chicago:20250823T210000
DTSTAMP:20260424T152057
CREATED:20250511T200810Z
LAST-MODIFIED:20250821T153057Z
UID:29965-1755972000-1755982800@orangeworthy.com
SUMMARY:Gen Z Rally
DESCRIPTION:God is moving in Gen Z! They are coming up and out of every trap the enemy has laid for them. What many have considered a lost cause is beginning to shake the gates of hell. Gen Z\, it is your time!
URL:https://orangeworthy.com/event/gen-z-rally/
LOCATION:1030 N Main St\, Vidor\, TX
ORGANIZER;CN="Grace Community Church":MAILTO:noreply@facebookmail.com
END:VEVENT
BEGIN:VEVENT
DTSTART;TZID=America/Chicago:20250823T170000
DTEND;TZID=America/Chicago:20250823T193000
DTSTAMP:20260424T152057
CREATED:20250807T160656Z
LAST-MODIFIED:20250821T153056Z
UID:32088-1755968400-1755977400@orangeworthy.com
SUMMARY:BRIAN WINFIELD @ FREE STATE CELLARS
DESCRIPTION:🎶BRIAN WINFIELD LIVE @ FREE STATE CELLARS \nLive music every Saturday at Free State Cellars!Join us on August 23 from 5:00 – 7:30 PM as we welcome Brian Winfield to the vineyard stage. Bring a friend\, grab a glass\, and unwind with great music in a beautiful setting.
URL:https://orangeworthy.com/event/brian-winfield-free-state-cellars-2/
LOCATION:Free State Cellars Winery
ORGANIZER;CN="Free State Cellars Winery":MAILTO:noreply@facebookmail.com
END:VEVENT
BEGIN:VEVENT
DTSTART;TZID=America/Chicago:20250823T163000
DTEND;TZID=America/Chicago:20250823T193000
DTSTAMP:20260424T152057
CREATED:20250821T153055Z
LAST-MODIFIED:20250821T153055Z
UID:32340-1755966600-1755977400@orangeworthy.com
SUMMARY:Abstract Photography Field Trip
DESCRIPTION:Beaumont Camera Club members we will be meeting in front of the Jefferson Theatre in downtown Beaumont this Saturday at 4:30 PM to enjoy a saunter through our fair city to focus on abstract photography.  \nWe hope to have a great turn out for this event and bring a friend if you can!!!!  \nCome on out and let’s get abstract!!!!  \n📸📸📸📸
URL:https://orangeworthy.com/event/abstract-photography-field-trip/
LOCATION:Jefferson Theatre\, 345 Fannin Street\, Beaumont\, TX\, 77701\, US
END:VEVENT
BEGIN:VEVENT
DTSTART;TZID=America/Chicago:20250823T160000
DTEND;TZID=America/Chicago:20250823T180000
DTSTAMP:20260424T152057
CREATED:20250814T153643Z
LAST-MODIFIED:20250821T153055Z
UID:32205-1755964800-1755972000@orangeworthy.com
SUMMARY:Wet-N-Wild Back to School Party
DESCRIPTION:Can you believe summer break is over!?  \nBring your towel and expect to have fun on Saturday August 23rd from 4pm to 6pm! All are welcome! Invite your school friends!
URL:https://orangeworthy.com/event/wet-n-wild-back-to-school-party/
LOCATION:340 Bland Dr\, Bridge City\, TX
ORGANIZER;CN="Second Baptist Church%2C Bridge City%2C TX":MAILTO:noreply@facebookmail.com
END:VEVENT
BEGIN:VEVENT
DTSTART;TZID=America/Chicago:20250823T130000
DTEND;TZID=America/Chicago:20250823T220000
DTSTAMP:20260424T152057
CREATED:20250814T153643Z
LAST-MODIFIED:20250821T153054Z
UID:32204-1755954000-1755986400@orangeworthy.com
SUMMARY:🎉 Spin the Wheel Saturday! 🎉
DESCRIPTION:Join us on Saturday\, August 23rd\, from 1pm to 10pm for a fun-filled day of surprises and exclusive deals. Spin the wheel for a chance to win amazing discounts\, free accessories\, and even limited-edition cigars! \nWhether you’re a seasoned smoker or new to the lounge\, there’s something for everyone. Plus\, enjoy the great atmosphere\, fantastic company\, and some awesome prizes! 🎁 \nDon’t miss out on this exciting event—bring your friends\, grab a drink\, and let’s make this Saturday one to remember! \n🕐 Time: 1pm – 10pm📍 Where: War Wagon Cigar Lounge \n#SpinTheWheelSaturday #CigarFun #WarWagonLounge #CigarDeals #CigarsAndGoodTimes
URL:https://orangeworthy.com/event/%f0%9f%8e%89-spin-the-wheel-saturday-%f0%9f%8e%89/
LOCATION:8480 HWY 87 N\, Orange\, TX
ORGANIZER;CN="War Wagon Cigar Lounge":MAILTO:noreply@facebookmail.com
END:VEVENT
END:VCALENDAR