BEGIN:VCALENDAR
VERSION:2.0
PRODID:-//Orange County Local Scoop - ECPv6.15.20//NONSGML v1.0//EN
CALSCALE:GREGORIAN
METHOD:PUBLISH
X-WR-CALNAME:Orange County Local Scoop
X-ORIGINAL-URL:https://orangeworthy.com
X-WR-CALDESC:Events for Orange County Local Scoop
REFRESH-INTERVAL;VALUE=DURATION:PT1H
X-Robots-Tag:noindex
X-PUBLISHED-TTL:PT1H
BEGIN:VTIMEZONE
TZID:America/Chicago
BEGIN:DAYLIGHT
TZOFFSETFROM:-0600
TZOFFSETTO:-0500
TZNAME:CDT
DTSTART:20240310T080000
END:DAYLIGHT
BEGIN:STANDARD
TZOFFSETFROM:-0500
TZOFFSETTO:-0600
TZNAME:CST
DTSTART:20241103T070000
END:STANDARD
BEGIN:DAYLIGHT
TZOFFSETFROM:-0600
TZOFFSETTO:-0500
TZNAME:CDT
DTSTART:20250309T080000
END:DAYLIGHT
BEGIN:STANDARD
TZOFFSETFROM:-0500
TZOFFSETTO:-0600
TZNAME:CST
DTSTART:20251102T070000
END:STANDARD
BEGIN:DAYLIGHT
TZOFFSETFROM:-0600
TZOFFSETTO:-0500
TZNAME:CDT
DTSTART:20260308T080000
END:DAYLIGHT
BEGIN:STANDARD
TZOFFSETFROM:-0500
TZOFFSETTO:-0600
TZNAME:CST
DTSTART:20261101T070000
END:STANDARD
END:VTIMEZONE
BEGIN:VEVENT
DTSTART;TZID=America/Chicago:20250913T120000
DTEND;TZID=America/Chicago:20250913T220000
DTSTAMP:20260424T082029
CREATED:20250814T153654Z
LAST-MODIFIED:20250911T184320Z
UID:32223-1757764800-1757800800@orangeworthy.com
SUMMARY:Hot Air Balloon Glo Festival
DESCRIPTION:Hot Air Balloon Glo Festival 2025! There will be 10 Hot Air Balloons Glo\, tethered balloon ride\, local band\, food trucks\, arts and craft vendors\, Zidzone Inflatables and a petting zoo!
URL:https://orangeworthy.com/event/hot-air-balloon-glo-festival/
LOCATION:Bridge City Elementary School
ORGANIZER;CN="Bridge City Chamber":MAILTO:noreply@facebookmail.com
END:VEVENT
BEGIN:VEVENT
DTSTART;TZID=America/Chicago:20250913T110000
DTEND;TZID=America/Chicago:20250913T150000
DTSTAMP:20260424T082029
CREATED:20250904T160743Z
LAST-MODIFIED:20250911T184320Z
UID:33083-1757761200-1757775600@orangeworthy.com
SUMMARY:Graceful Permanent Fine Jewelry Pop-up @ Darling Orange Boutique
DESCRIPTION:Grab your girls and visit Graceful Permanent Fine Jewelry’s Pop-Up INSIDE Darling Orange Boutique on Sept. 13.  \nStephanie has curated an elevated permanent jewelry selection and is looking forward to sharing it with YOU! \nShe is “building friendships one weld at a
URL:https://orangeworthy.com/event/graceful-permanent-fine-jewelry-pop-up-darling-orange-boutique/
LOCATION:2339 MacArthur Dr\, Orange\, TX
ORGANIZER;CN="Darling Orange Boutique + Consignment":MAILTO:noreply@facebookmail.com
END:VEVENT
BEGIN:VEVENT
DTSTART;TZID=America/Chicago:20250913T103000
DTEND;TZID=America/Chicago:20250913T123000
DTSTAMP:20260424T082029
CREATED:20250814T153654Z
LAST-MODIFIED:20250911T184320Z
UID:32222-1757759400-1757766600@orangeworthy.com
SUMMARY:Warrior Workshop\, Free Community Event
DESCRIPTION:Warriors: Strength with Awareness With Lauren Cowart  \nA deep journey into the roots and expansion of the warrior. In this special workshop we will: \n🕉️ Dive deep into the symbolism & significance of the warrior poses \n🕉️Explore in- depth the foundational warrior poses & key
URL:https://orangeworthy.com/event/warrior-workshop-free-community-event/
LOCATION:5648 fm 408\, Orange\, TX
ORGANIZER;CN="Yoga Vibe TX Studio & School":MAILTO:noreply@facebookmail.com
END:VEVENT
BEGIN:VEVENT
DTSTART;TZID=America/Chicago:20250913T100000
DTEND;TZID=America/Chicago:20250913T120000
DTSTAMP:20260424T082029
CREATED:20250904T160741Z
LAST-MODIFIED:20250911T184318Z
UID:33082-1757757600-1757764800@orangeworthy.com
SUMMARY:Summer Fun with the Son
DESCRIPTION:hey kids join us for a fun day of water activities and learning about Jesus!! Parents\, must sign a permission slip
URL:https://orangeworthy.com/event/summer-fun-with-the-son/
LOCATION:1030 N Main St\, Vidor\, TX\, United States\, Texas 77662
ORGANIZER;CN="Grace Community Church":MAILTO:noreply@facebookmail.com
END:VEVENT
BEGIN:VEVENT
DTSTART;TZID=America/Chicago:20250913T100000
DTEND;TZID=America/Chicago:20250913T150000
DTSTAMP:20260424T082029
CREATED:20250821T153110Z
LAST-MODIFIED:20250911T184319Z
UID:32351-1757757600-1757775600@orangeworthy.com
SUMMARY:Remember & Honor Dodgeball Tournament
DESCRIPTION:The Orange Recreation Center proudly announces the return of the Remember and Honor Dodgeball Tournament on Saturday\, September 13\, 2025! \nThis special event is dedicated to celebrating and showing gratitude to our local law enforcement\, firefighters\, military\, and healthcare workers\, providing an exciting day of friendly competition\, camaraderie\, and appreciation for our everyday
URL:https://orangeworthy.com/event/remember-honor-dodgeball-tournament/
LOCATION:1405 W. Orange Avenue\, 77630
ORGANIZER;CN="Orange Recreation Center":MAILTO:noreply@facebookmail.com
END:VEVENT
BEGIN:VEVENT
DTSTART;TZID=America/Chicago:20250913T100000
DTEND;TZID=America/Chicago:20250913T140000
DTSTAMP:20260424T082029
CREATED:20250807T160702Z
LAST-MODIFIED:20250911T184319Z
UID:32093-1757757600-1757772000@orangeworthy.com
SUMMARY:“BOLD” Ladies Conference
DESCRIPTION:Speaker: Carrie HuntWorship LunchFellowship
URL:https://orangeworthy.com/event/bold-ladies-conference/
LOCATION:2850 Highway 12\, Vidor\, TX
END:VEVENT
BEGIN:VEVENT
DTSTART;TZID=America/Chicago:20250913T080000
DTEND;TZID=America/Chicago:20250913T084500
DTSTAMP:20260424T082029
CREATED:20250911T184318Z
LAST-MODIFIED:20250911T184318Z
UID:33161-1757750400-1757753100@orangeworthy.com
SUMMARY:Men's Breakfast
DESCRIPTION:Come join us for a great breakfast followed by a devotion.It is a great time of food\, fellowship\, and Bible
URL:https://orangeworthy.com/event/mens-breakfast/
LOCATION:First Christian Church of Orangefield\, Texas\, 4234 FM-408\, Orange\, TX\, 77630\, US
ORGANIZER;CN="First Christian Church of Orangefield%2C Texas":MAILTO:noreply@facebookmail.com
END:VEVENT
BEGIN:VEVENT
DTSTART;TZID=America/Chicago:20250912T210000
DTEND;TZID=America/Chicago:20250913T000000
DTSTAMP:20260424T082029
CREATED:20250911T184317Z
LAST-MODIFIED:20250911T184317Z
UID:33160-1757710800-1757721600@orangeworthy.com
SUMMARY:Cory Sellars
DESCRIPTION:Come out this Friday for a good time with this guy ! Been a long time since we have seen him!!! But… he is back for a solo show this Friday night !!!
URL:https://orangeworthy.com/event/cory-sellars/
LOCATION:2095 Texas Ave\, Bridge City\, TX
ORGANIZER;CN="The Silver Fox":MAILTO:noreply@facebookmail.com
END:VEVENT
BEGIN:VEVENT
DTSTART;TZID=America/Chicago:20250912T203000
DTEND;TZID=America/Chicago:20250912T233000
DTSTAMP:20260424T082029
CREATED:20250605T162001Z
LAST-MODIFIED:20250911T184317Z
UID:31052-1757709000-1757719800@orangeworthy.com
SUMMARY:Joe
DESCRIPTION:In retrospect of looking back over the past twenty years\, R&B superstar JOE Thomas crosses BRIDGES. The crooner’s new Album clearly defines his new outlook on life’s relationships and where they have taken him. Why “BRIDGES”? – “We build them\, cross them\, burn them\, then soon realize how much we need them” – JOE “Relationships are Bridges and at some point in life we must take full responsibility for where we have allowed those relationships to take us. Most important\, what relationships or BRIDGES are we building\, crossing into\, or burning?” The album is described as therapeutic and open. “I must confess I’ve had my share of girls in my lifetime – honestly I’ve been on the wildest rides and maybe I should slow it down” are the opening lines of the Album’s introduction single – ‘LOVE & SEX’ PT. 2 which features the beautiful KELLY ROWLAND of Destiny’s Child and X-Factor fame. The single is widely and well received at Urban AC radio and video (directed by veteran director Bille Woodruff) with a strong reminiscence of the SOS Band days. Part one featured American Idol Fantasia and was featured on the singer’s 2013 Album release Double Back\, (Evolution of R&B) which debuted #1 on the Billboard R&B charts and #6 on Billboard Top 200. When asked why the choice of Kelly over Fantasia\, the R&B singer is very adamant that there is and never was a choice per say or comparison in his mind between the two. “Both are equally talented and beautiful.” If I had to describe in keeping with the concept of BRIDGES\, (think of it this way)\, every major bridge has different levels or entrances when going across them. Your choice depends on the direction you’re going in. Both Kelly and Fantasia were necessary because I needed to go into two different directions for this particular song. I won’t call it a journey. That is for people to decide. I will say that it is heartfelt and relatable to past or present circumstances for any listener who embarks on BRIDGES. It is uplifting\, fun and thought provoking. The biggest comment for those that I have played Bridges for is that one\, you never feel like you have to skip over a particular song and that each song is enjoyable or as they say\, “it reminds me of when I ….” That blank has been filled in some pretty amazing things. Then there’s the album’s new single\, the sure fire nostalgic Ballad entitled\, “If You Lose Her”. I mean what would a JOE album be without one or several ballads (which he has not and never fails to deliver). On the thought-provoking ballad “If You Lose Her\,” Joe cautions men about neglecting or taking a good woman for granted. “If you lose her\, there’ll be a hole in your soul… no grave deep enough to bury the pain.” Other noteworthy songs include the anthem “First Lady\,” the party-driven “Take It to the House” and another soul-stirring ballad\, “The Rope Gives Way.” Manager/partner Isaac views BRIDGES as a way to connect Joe with a wider audience. “Joe is one of the few artists left who can step into any genre\,” says Isaac. “Already mainstream R&B and lasts.” \nAll guests must be 21 or
URL:https://orangeworthy.com/event/joe/
LOCATION:2550 Golden Nugget Blvd\, 70601
ORGANIZER;CN="Golden Nugget Hotel and Casino - Lake Charles":MAILTO:noreply@facebookmail.com
END:VEVENT
BEGIN:VEVENT
DTSTART;TZID=America/Chicago:20250912T193000
DTEND;TZID=America/Chicago:20250912T223000
DTSTAMP:20260424T082029
CREATED:20250911T184316Z
LAST-MODIFIED:20250911T184316Z
UID:33159-1757705400-1757716200@orangeworthy.com
SUMMARY:JOEY WARD BAND
DESCRIPTION:JOEY WARD BAND — FRIDAY 9/12/257:30P – 10:30P
URL:https://orangeworthy.com/event/joey-ward-band-2/
LOCATION:1703 North 16 th Street \, Orange\, TX\, United States\, Texas 77630
ORGANIZER;CN="Spanky's Bar & Grill":MAILTO:noreply@facebookmail.com
END:VEVENT
BEGIN:VEVENT
DTSTART;TZID=America/Chicago:20250912T190000
DTEND;TZID=America/Chicago:20250912T220000
DTSTAMP:20260424T082029
CREATED:20250904T160740Z
LAST-MODIFIED:20250911T184316Z
UID:33080-1757703600-1757714400@orangeworthy.com
SUMMARY:Classic Movie Night - Aliens
DESCRIPTION:Doors 6pmFilm 7pm \nTickets can be purchased ahead of time at the Beaumont Civic Center box office or online now at the buy tickets link admission. \nConcessions are available for offspring.– Courtesy of IMDb \nClassic Movie Nights are supported by agents. \nIf you purchase tickets from an unauthorized agent in the secondary market (scalper\, ticket broker\, etc) you risk purchasing counterfeit or invalid tickets. Please use caution when purchasing tickets not from the Beaumont Civic Center Box Office or any website other than www.ticketmaster.com. Guests who purchase invalid tickets from the re-sale site must contact that vendor for
URL:https://orangeworthy.com/event/classic-movie-night-aliens/
LOCATION:Jefferson Theatre\, 345 Fannin Street\, Beaumont\, TX\, 77701\, US
ORGANIZER;CN="Ticketmaster Events":MAILTO:noreply@facebookmail.com
END:VEVENT
BEGIN:VEVENT
DTSTART;TZID=America/Chicago:20250912T190000
DTEND;TZID=America/Chicago:20250912T220000
DTSTAMP:20260424T082029
CREATED:20250904T160740Z
LAST-MODIFIED:20250911T184316Z
UID:33081-1757703600-1757714400@orangeworthy.com
SUMMARY:Marriage Weekend
DESCRIPTION:Take a break and invest in what matters most—your together. \nhttps://eastgateupc.churchcenter.com/registrations/events/3098271
URL:https://orangeworthy.com/event/marriage-weekend/
LOCATION:18905 I-10\, Vidor\, TX
ORGANIZER;CN="Eastgate Church":MAILTO:noreply@facebookmail.com
END:VEVENT
BEGIN:VEVENT
DTSTART;TZID=America/Chicago:20250912T173000
DTEND;TZID=America/Chicago:20250912T193000
DTSTAMP:20260424T082029
CREATED:20250911T184315Z
LAST-MODIFIED:20250911T184315Z
UID:33156-1757698200-1757705400@orangeworthy.com
SUMMARY:Curse and the Cure @ Free State Winery 🍊 FRI. SEPT 12 (5:30-7:30pm)
DESCRIPTION:Live Music at Free State Cellars Winery \n📅 Friday\, September 12🕠 5:30 PM – 7:30 PM📍 Free State Cellars Winery \nCome enjoy an evening of live music\, wine\, and vineyard views! Relax with friends\, sip your favorite pour\, and kick off the weekend with the perfect Friday night
URL:https://orangeworthy.com/event/curse-and-the-cure-free-state-winery-%f0%9f%8d%8a-fri-sept-12-530-730pm/
LOCATION:Free State Cellars Winery
ORGANIZER;CN="Curse and the Cure":MAILTO:noreply@facebookmail.com
END:VEVENT
BEGIN:VEVENT
DTSTART;TZID=America/Chicago:20250911T193000
DTEND;TZID=America/Chicago:20250911T223000
DTSTAMP:20260424T082029
CREATED:20250911T184315Z
LAST-MODIFIED:20250911T184315Z
UID:33155-1757619000-1757629800@orangeworthy.com
SUMMARY:ROCK-N-BILLY
DESCRIPTION:ROCK – N – BILLY — THURSDAY 9/11/257:30P – 10:30P
URL:https://orangeworthy.com/event/rock-n-billy/
LOCATION:1703 North 16 th Street \, Orange\, TX\, United States\, Texas 77630
ORGANIZER;CN="Spanky's Bar & Grill":MAILTO:noreply@facebookmail.com
END:VEVENT
BEGIN:VEVENT
DTSTART;TZID=America/Chicago:20250911T190000
DTEND;TZID=America/Chicago:20250911T220000
DTSTAMP:20260424T082029
CREATED:20250911T184314Z
LAST-MODIFIED:20250911T184314Z
UID:33154-1757617200-1757628000@orangeworthy.com
SUMMARY:ERIC DEMMER\, THE STARK EXPERIMENT \, KRIS HARPER\, KEN TURNER\, CARL RICHARDSON RETURNS TO THE BAYOU ❤️
DESCRIPTION:THE STARK EXPERIMENT w SPECIAL GUEST ERIC DEMMER❤️❤️Table Reservations 409-498-4060
URL:https://orangeworthy.com/event/eric-demmer-the-stark-experiment-kris-harper-ken-turner-carl-richardson-returns-to-the-bayou-%e2%9d%a4%ef%b8%8f/
LOCATION:995 N. Main St.\, Vidor\, TX
ORGANIZER;CN="Bayou Cafe Vidor Tx":MAILTO:noreply@facebookmail.com
END:VEVENT
BEGIN:VEVENT
DTSTART;TZID=America/Chicago:20250911T190000
DTEND;TZID=America/Chicago:20250911T203000
DTSTAMP:20260424T082029
CREATED:20250911T184313Z
LAST-MODIFIED:20250911T184313Z
UID:33153-1757617200-1757622600@orangeworthy.com
SUMMARY:Community Band Rehearsal
DESCRIPTION:Join us for rehearsals with the Community Band of Southeast Texas. All area woodwind\, brass\, and percussion players are welcome! \nhttps://www.facebook.com/events/24558577480451004/?event_time_id=24558577527117666
URL:https://orangeworthy.com/event/community-band-rehearsal/
LOCATION:Pine Forest Baptist Church – Vidor\, Texas
ORGANIZER;CN="Community Band of Southeast Texas":MAILTO:noreply@facebookmail.com
END:VEVENT
BEGIN:VEVENT
DTSTART;TZID=America/Chicago:20250911T190000
DTEND;TZID=America/Chicago:20250911T220000
DTSTAMP:20260424T082029
CREATED:20250605T162001Z
LAST-MODIFIED:20250911T184314Z
UID:31051-1757617200-1757628000@orangeworthy.com
SUMMARY:Brad Williams: The Growth Spurt Tour | Beaumont\, TX
DESCRIPTION:Doors 6pmShow 7pm \nPresale tickets go on sale Wednesday\, December 11 at 10:00am using code: BRAD on office. \nThird-Party Tickets \nThe Beaumont Civic Center Box Office and Ticketmaster are the only authorized ticketing resolution.
URL:https://orangeworthy.com/event/brad-williams-the-growth-spurt-tour-beaumont-tx/
LOCATION:Julie Rogers Theater
ORGANIZER;CN="Ticketmaster Events":MAILTO:noreply@facebookmail.com
END:VEVENT
BEGIN:VEVENT
DTSTART;TZID=America/Chicago:20250911T180000
DTEND;TZID=America/Chicago:20250911T200000
DTSTAMP:20260424T082029
CREATED:20250911T184313Z
LAST-MODIFIED:20250911T184313Z
UID:33152-1757613600-1757620800@orangeworthy.com
SUMMARY:Crossroads Trio at Two Amigos\, Orange
DESCRIPTION:The Crossroads Trio takes the stage again at Two Amigos in Orange! Great food and great music!!!
URL:https://orangeworthy.com/event/crossroads-trio-at-two-amigos-orange/
LOCATION:Two Amigos Mexican Restaurant
ORGANIZER;CN="Crossroads Band":MAILTO:noreply@facebookmail.com
END:VEVENT
BEGIN:VEVENT
DTSTART;TZID=America/Chicago:20250910T193000
DTEND;TZID=America/Chicago:20250910T213000
DTSTAMP:20260424T082029
CREATED:20250904T160739Z
LAST-MODIFIED:20250911T184311Z
UID:33079-1757532600-1757539800@orangeworthy.com
SUMMARY:Classic Country Wednesday
DESCRIPTION:Britt Godwin\, Huey Buxton and Brad Hight Play some of the best classic country music for your listening pleasure! 😁 LIVE and Streaming at/from VFW Post 2775 in Orange\, TX 77632 \nhttps://www.facebook.com/events/1826503858282055/?event_time_id=1826503864948721
URL:https://orangeworthy.com/event/classic-country-wednesday/
LOCATION:VFW Post 2775 – Orange TX – All American Post
ORGANIZER;CN="Mother Hen Weather":MAILTO:noreply@facebookmail.com
END:VEVENT
BEGIN:VEVENT
DTSTART;TZID=America/Chicago:20250907T193000
DTEND;TZID=America/Chicago:20250907T223000
DTSTAMP:20260424T082029
CREATED:20250904T160738Z
LAST-MODIFIED:20250904T160738Z
UID:33078-1757273400-1757284200@orangeworthy.com
SUMMARY:Music Bingo  and Karaoke w/ DJ Dickey
DESCRIPTION:It is that time again for all the fun !! Music Bingo Sunday !!!! Between rounds and after the game DJ Dickey will be bringing your favorite tunes and setting you up to sing !!!
URL:https://orangeworthy.com/event/music-bingo-and-karaoke-w-dj-dickey/
LOCATION:The Silver Fox\, 2095 Texas Ave\, Bridge City\, TX\, 77611\, US
ORGANIZER;CN="The Silver Fox":MAILTO:noreply@facebookmail.com
END:VEVENT
BEGIN:VEVENT
DTSTART;TZID=America/Chicago:20250907T163000
DTEND;TZID=America/Chicago:20250907T190000
DTSTAMP:20260424T082029
CREATED:20250904T160737Z
LAST-MODIFIED:20250904T160737Z
UID:33077-1757262600-1757271600@orangeworthy.com
SUMMARY:Wine Club Exclusive Pick Up Party - White After Labor Day
DESCRIPTION:WHITE AFTER LABOR DAY PARTY! \nWine choices for Q3 SEPTEMBER 2025 are available now on www.freestatecellars.com.We’ve selected some amazing wines\, but you can make your own changes until midnight on Saturday\, 8.31.2025. Credit card charges will be Sunday\, 9.1.2025. \nWHITES ARE IN SEASON LONG AFTER LABOR DAY! Come mark the end of the lazy days of summer with us as we showcase two new beautiful white wines debuting this fall – a fully oaked Roussanne and a crisp Picpoul Blanc. Don your best fashion-forward winery white attire (it’s photo update time y’all)\, join us for some tasty treats\, and of course ice cold Free State SANGRIA featuring our latest wines.  \nCan’t wait to see you at this Smugglers Union exclusive pickup party event on SUNDAY\, SEPTEMBER 7\, 2025\, from 4:30 – 7:00 pm.  \nWe will have several unique frozen SANGRIA FLAVORSto try.As always\, these delicious combinations of wine\, juice and spirits will be available to perk. \nWE’RE SERVING PLENTY OF FOOD AND DRINKS!No outside items club. \nScroll down and you will see 4 categories to edit: \nClub Choices Billing InformationPayment informationShip To address \nOnce your selections are made\, hit submit.It’s that
URL:https://orangeworthy.com/event/wine-club-exclusive-pick-up-party-white-after-labor-day/
LOCATION:4702 Tejas Parkway\, Orange\, TX\, United States\, Texas 77632
ORGANIZER;CN="Free State Cellars Winery":MAILTO:noreply@facebookmail.com
END:VEVENT
BEGIN:VEVENT
DTSTART;TZID=America/Chicago:20250907T130000
DTEND;TZID=America/Chicago:20250907T143000
DTSTAMP:20260424T082029
CREATED:20250904T160736Z
LAST-MODIFIED:20250904T160736Z
UID:33074-1757250000-1757255400@orangeworthy.com
SUMMARY:Pony/horse Rides
DESCRIPTION:Offering young riders an opportunity to get on a horse. We will be using a lead rope to walk the horses. All proceeds are used to pay our horses vet bills. $10 per ride or 3 for $25. Riders must be at least 3.
URL:https://orangeworthy.com/event/pony-horse-rides/
LOCATION:Tyrrell Park Stables
END:VEVENT
BEGIN:VEVENT
DTSTART;TZID=America/Chicago:20250907T103000
DTEND;TZID=America/Chicago:20250907T133000
DTSTAMP:20260424T082029
CREATED:20250904T160736Z
LAST-MODIFIED:20250904T160736Z
UID:33073-1757241000-1757251800@orangeworthy.com
SUMMARY:125th Anniversary Celebration Sunday
DESCRIPTION:Join us this Sunday as we celebrate our 125th Year of Serving the Lord Faithfully.Service starts at 10:30 am and Dinner on the grounds withSinging and Celebrating God’s Faithfulness to us as a church.May we continue to be the Light of Christ to our Community.
URL:https://orangeworthy.com/event/125th-anniversary-celebration-sunday/
LOCATION:11540 Highway 12\, Mauriceville\, TX\, United States\, Texas 77632
END:VEVENT
BEGIN:VEVENT
DTSTART;TZID=America/Chicago:20250906T210000
DTEND;TZID=America/Chicago:20250907T010000
DTSTAMP:20260424T082029
CREATED:20250904T160735Z
LAST-MODIFIED:20250904T160735Z
UID:33071-1757192400-1757206800@orangeworthy.com
SUMMARY:The Bogarts
DESCRIPTION:The BogartsSaturday September 6\, 20259 pm to 1 am@ Texas Ave Tavern21 & up ONLY
URL:https://orangeworthy.com/event/the-bogarts/
LOCATION:Texas Ave. Tavern\, 2845 Texas Ave Ste 500\, Bridge City\, TX\, 77611\, US
ORGANIZER;CN="Texas Ave. Tavern":MAILTO:noreply@facebookmail.com
END:VEVENT
BEGIN:VEVENT
DTSTART;TZID=America/Chicago:20250906T210000
DTEND;TZID=America/Chicago:20250907T010000
DTSTAMP:20260424T082029
CREATED:20250904T160735Z
LAST-MODIFIED:20250904T160735Z
UID:33072-1757192400-1757206800@orangeworthy.com
SUMMARY:The Bogarts at Texas Avenue Tavern
DESCRIPTION:Headed to Bridge City to Rock It Out !! Ben Sanders will be filling in on Bass Guitar !! Come Get Ya Some !!
URL:https://orangeworthy.com/event/the-bogarts-at-texas-avenue-tavern/
LOCATION:Texas Avenue Tavern
ORGANIZER;CN="The Bogarts":MAILTO:noreply@facebookmail.com
END:VEVENT
BEGIN:VEVENT
DTSTART;TZID=America/Chicago:20250906T210000
DTEND;TZID=America/Chicago:20250907T000000
DTSTAMP:20260424T082029
CREATED:20250904T160734Z
LAST-MODIFIED:20250904T160734Z
UID:33070-1757192400-1757203200@orangeworthy.com
SUMMARY:Jace Nunnelly Band
DESCRIPTION:Saturday 9/6/2025Jace Nunnelly Band
URL:https://orangeworthy.com/event/jace-nunnelly-band/
LOCATION:2614 Lutcher Drive\, Orange\, TX\, United States\, Texas 77632
ORGANIZER;CN="Brick And Barley":MAILTO:noreply@facebookmail.com
END:VEVENT
BEGIN:VEVENT
DTSTART;TZID=America/Chicago:20250906T180000
DTEND;TZID=America/Chicago:20250906T210000
DTSTAMP:20260424T082029
CREATED:20250821T153108Z
LAST-MODIFIED:20250904T160733Z
UID:32350-1757181600-1757192400@orangeworthy.com
SUMMARY:Classic Movie & Cigar Night: Casablanca
DESCRIPTION:Join us for a relaxing evening of cigars\, camaraderie\, and a true cinematic classic—Casablanca! Enjoy your favorite smokes while watching one of the most iconic films of all vibes. \n#CigarLoungeLife #ClassicMovieNight #WarWagonLounge #Casablanca #CigarCulture
URL:https://orangeworthy.com/event/classic-movie-cigar-night-casablanca/
LOCATION:8480 HWY 87 N\, Orange\, TX
ORGANIZER;CN="War Wagon Cigar Lounge":MAILTO:noreply@facebookmail.com
END:VEVENT
BEGIN:VEVENT
DTSTART;TZID=America/Chicago:20250906T173000
DTEND;TZID=America/Chicago:20250906T203000
DTSTAMP:20260424T082029
CREATED:20250703T154405Z
LAST-MODIFIED:20250904T160732Z
UID:31552-1757179800-1757190600@orangeworthy.com
SUMMARY:Bougie Music Bingo - Class of 2026 Project Graduation Fundraiser
DESCRIPTION:Bougie Music Bingo hosted by OHS Class of 2026 – We put the “fun” in fundraising. Join us for a night filled with music\, BINGO\, a little line dancing\, LUXURY door prizes\, catered dinner\, silent auction\, & more.
URL:https://orangeworthy.com/event/bougie-music-bingo-class-of-2026-project-graduation-fundraiser/
LOCATION:Bridge City Community Center
END:VEVENT
BEGIN:VEVENT
DTSTART;TZID=America/Chicago:20250906T170000
DTEND;TZID=America/Chicago:20250906T193000
DTSTAMP:20260424T082029
CREATED:20250904T160732Z
LAST-MODIFIED:20250904T160732Z
UID:33069-1757178000-1757187000@orangeworthy.com
SUMMARY:ALEC DEAN LIVE @ FREE STATE CELLARS
DESCRIPTION:🎶ALEC DEAN LIVE @ FREE STATE CELLARS \nLive music every Saturday at Free State Cellars!Join us on September 6 from 5:00 – 7:30 PM as we welcome Alec Dean to the vineyard stage. Bring a friend\, grab a glass\, and unwind with great music in a beautiful setting.
URL:https://orangeworthy.com/event/alec-dean-live-free-state-cellars/
LOCATION:Free State Cellars Winery
ORGANIZER;CN="Free State Cellars Winery":MAILTO:noreply@facebookmail.com
END:VEVENT
BEGIN:VEVENT
DTSTART;TZID=America/Chicago:20250906T120000
DTEND;TZID=America/Chicago:20250906T150000
DTSTAMP:20260424T082029
CREATED:20250904T160731Z
LAST-MODIFIED:20250904T160731Z
UID:33068-1757160000-1757170800@orangeworthy.com
SUMMARY:Pokemon Day - Tournament
DESCRIPTION:POKEMON DAYSaturday\, September 6\, 202512:00 pm to 3:00 pm$10.00Pokémon Tournament IncludedFormat: Expanded(All cards from Black/Whiteto the current
URL:https://orangeworthy.com/event/pokemon-day-tournament/
LOCATION:365 N Main St\, Vidor\, TX\, United States\, Texas 77662
ORGANIZER;CN="Lyons Den":MAILTO:noreply@facebookmail.com
END:VEVENT
END:VCALENDAR