BEGIN:VCALENDAR
VERSION:2.0
PRODID:-//Orange County Local Scoop - ECPv6.15.20//NONSGML v1.0//EN
CALSCALE:GREGORIAN
METHOD:PUBLISH
X-ORIGINAL-URL:https://orangeworthy.com
X-WR-CALDESC:Events for Orange County Local Scoop
REFRESH-INTERVAL;VALUE=DURATION:PT1H
X-Robots-Tag:noindex
X-PUBLISHED-TTL:PT1H
BEGIN:VTIMEZONE
TZID:America/Chicago
BEGIN:DAYLIGHT
TZOFFSETFROM:-0600
TZOFFSETTO:-0500
TZNAME:CDT
DTSTART:20240310T080000
END:DAYLIGHT
BEGIN:STANDARD
TZOFFSETFROM:-0500
TZOFFSETTO:-0600
TZNAME:CST
DTSTART:20241103T070000
END:STANDARD
BEGIN:DAYLIGHT
TZOFFSETFROM:-0600
TZOFFSETTO:-0500
TZNAME:CDT
DTSTART:20250309T080000
END:DAYLIGHT
BEGIN:STANDARD
TZOFFSETFROM:-0500
TZOFFSETTO:-0600
TZNAME:CST
DTSTART:20251102T070000
END:STANDARD
BEGIN:DAYLIGHT
TZOFFSETFROM:-0600
TZOFFSETTO:-0500
TZNAME:CDT
DTSTART:20260308T080000
END:DAYLIGHT
BEGIN:STANDARD
TZOFFSETFROM:-0500
TZOFFSETTO:-0600
TZNAME:CST
DTSTART:20261101T070000
END:STANDARD
END:VTIMEZONE
BEGIN:VEVENT
DTSTART;TZID=America/Chicago:20250920T090000
DTEND;TZID=America/Chicago:20250920T120000
DTSTAMP:20260424T033826
CREATED:20250911T184333Z
LAST-MODIFIED:20250918T203707Z
UID:33189-1758358800-1758369600@orangeworthy.com
SUMMARY:September Animal Encounters
DESCRIPTION:Saturday\, September 20th\, 20259 AM to 12 PM7834 Guillory RoadOrange\, TX 77632 \n🎟️ Buy tickets here: below. \nAnimal Viewing:Longhorn CattleHighland CowPeacocksDonkeysTurkeysHorsesLlamasEmusPigs \nPetting Zoo:ChickensRabbitsDucksGoats \nBubblesSand PitPhoto OpsCarriage Rides (Limit 1 carriage ride per Store.) \nPlease read our farm rules closely. No alcohol. No smoking. No pets. No times.Outside food and drink are allowed but may only be consumed at the picnic tables by the General
URL:https://orangeworthy.com/event/september-animal-encounters/
LOCATION:Guillory Road\, Orange\, TX\, United States\, Texas 77632
END:VEVENT
BEGIN:VEVENT
DTSTART;TZID=America/Chicago:20250920T080000
DTEND;TZID=America/Chicago:20250920T110000
DTSTAMP:20260424T033826
CREATED:20250911T184333Z
LAST-MODIFIED:20250918T203706Z
UID:33188-1758355200-1758366000@orangeworthy.com
SUMMARY:Bridge City Farmer's Market
DESCRIPTION:🌿✨ Bridge City Farmer’s Market ✨🌿📅 Saturday\, September 20⏰ 8:00 – 11:00 AM📍 101 Parkside\, Bridge City \nStart your Saturday with fresh\, local goodness at the Bridge City Farmer’s Market! \nHere’s what you’ll find:🥬 Fresh-picked veggies & seasonal produce🍯 Jams\, jellies\, sourdough bread & sweet treats🌿 Elderberry syrup & holistic health remedies🧼 Handcrafted 100% raw goat milk soaps (from yours truly!)🎁 Unique handmade items & artisan crafts… and so much more! \n✨ Why come?Because shopping local supports your neighbors\, strengthens community\, and gives you the freshest food and goods straight from the sharp. \n👉 Mark yourself “Going” and tag a friend who should join you for a morning of fresh finds and community
URL:https://orangeworthy.com/event/bridge-city-farmers-market-2/
LOCATION:101 Parkside Drive\, Bridge City\, TX\, United States\, Texas 77611
ORGANIZER;CN="Bridge City Farmer's Market":MAILTO:noreply@facebookmail.com
END:VEVENT
BEGIN:VEVENT
DTSTART;TZID=America/Chicago:20250920T080000
DTEND;TZID=America/Chicago:20250920T093000
DTSTAMP:20260424T033826
CREATED:20250911T184332Z
LAST-MODIFIED:20250918T203706Z
UID:33186-1758355200-1758360600@orangeworthy.com
SUMMARY:2025 FREE FALL 5K/Kids K - SEA RIM STRIDERS
DESCRIPTION:Location:CLAIBORNE WEST PARK-Vidor\, TXFREE and open to the Public run/walk–***Everyone must register and sign waiver ONLINE before race day*** \nThe Sea Rim Striders Run Club is an all-volunteer 501(c)3 Non Profit Organization that has been in existence since the 1970’s!Our main goal is the promotion of health and fitness\, with focus on running and walking.We work hard behind the scenes to bring you this Free run/walk\, as well as 14 other Free events throughout the year!Thanks to our Sponsors\, and proceeds from our Annual TURKEY TROT event\, we are able to bring these free races to our
URL:https://orangeworthy.com/event/2025-free-fall-5k-kids-k-sea-rim-striders/
LOCATION:4105 North St\, Vidor\, TX 77662-8569\, United States
ORGANIZER;CN="Sea Rim Striders":MAILTO:noreply@facebookmail.com
END:VEVENT
BEGIN:VEVENT
DTSTART;TZID=America/Chicago:20250920T070000
DTEND;TZID=America/Chicago:20250920T120000
DTSTAMP:20260424T033826
CREATED:20250918T203705Z
LAST-MODIFIED:20250918T203705Z
UID:33271-1758351600-1758369600@orangeworthy.com
SUMMARY:Youth Yard Sale [Inside and Outside]
DESCRIPTION:Come join us for our End of Summer Yard Sale to help raise funds for our youth program [it will be inside and outside].  \nThere will lots of items and some great prices. All clothes (excluding pants) $1 a grocery bag full\, shoes $3 a bag\, and pants $2 per bag. Lots of toys\, tools\, furniture\, household items\, baby furniture\, and much\, much more. Bring the family and come check us
URL:https://orangeworthy.com/event/youth-yard-sale-inside-and-outside/
LOCATION:First Christian Church of Orangefield\, Texas\, 4234 FM-408\, Orange\, TX\, 77630\, US
ORGANIZER;CN="First Christian Church of Orangefield%2C Texas":MAILTO:noreply@facebookmail.com
END:VEVENT
BEGIN:VEVENT
DTSTART;TZID=America/Chicago:20250919T210000
DTEND;TZID=America/Chicago:20250920T000000
DTSTAMP:20260424T033826
CREATED:20250918T203705Z
LAST-MODIFIED:20250918T203705Z
UID:33270-1758315600-1758326400@orangeworthy.com
SUMMARY:Chris Hantz
DESCRIPTION:One of our first musicians to ever have at the Fox – so it is always an honor to have Chris Hantz come play for us !!
URL:https://orangeworthy.com/event/chris-hantz/
LOCATION:The Silver Fox\, 2095 Texas Ave\, Bridge City\, TX\, 77611\, US
ORGANIZER;CN="The Silver Fox":MAILTO:noreply@facebookmail.com
END:VEVENT
BEGIN:VEVENT
DTSTART;TZID=America/Chicago:20250919T203000
DTEND;TZID=America/Chicago:20250919T233000
DTSTAMP:20260424T033826
CREATED:20250918T203705Z
LAST-MODIFIED:20250918T203705Z
UID:33269-1758313800-1758324600@orangeworthy.com
SUMMARY:Gary Allan
DESCRIPTION:With the allure of a modern-day outlaw\, Gary Allan has won over fans\, peers\, and critics with his signature blend of smoldering vocals\, rebellious lyrics\, and raucous live performances. While becoming a force on the country music scene\, Allan has remained true to his artistic voice each step of the way. The California native has released nine studio albums selling over 8 million albums\, been certified platinum on three back-to-back albums\, and been certified gold five times. Allan has five #1 hits on country radio and fourteen Top 10 hits to his credit. He has amassed over2.8billion total streams and has debuted at #1 on the Billboard Country Album chart four times\, along with his SET YOU FREE album debuting at the top of the Billboard 200 (Pop Chart). He is described as “dark and dreamy” in Entertainment Weekly\, “soulful and rough around the edges” in Playboy\, and deemed a “maverick” by Rolling Stone. He sells out venues as a headliner from to LA and has appeared on The Tonight Show with Jay Leno\, Late Show with David Letterman\, Late Night with Jimmy Fallon\, Live with Kelly and Michael\, and Jimmy Kimmel Live. He has also landed on the covers of Country Weekly\, Pollstar and People older.
URL:https://orangeworthy.com/event/gary-allan/
LOCATION:2550 Golden Nugget Blvd\, 70601
ORGANIZER;CN="Golden Nugget Hotel and Casino - Lake Charles":MAILTO:noreply@facebookmail.com
END:VEVENT
BEGIN:VEVENT
DTSTART;TZID=America/Chicago:20250919T193000
DTEND;TZID=America/Chicago:20250919T223000
DTSTAMP:20260424T033826
CREATED:20250918T203704Z
LAST-MODIFIED:20250918T203704Z
UID:33268-1758310200-1758321000@orangeworthy.com
SUMMARY:Crossroads Band at Spanky’s Bar & Grill
DESCRIPTION:Crossroads Band is returning to Spanky’s Bar and Grill in Orange! Delicious food\, great drinks\, and awesome music!
URL:https://orangeworthy.com/event/crossroads-band-at-spankys-bar-grill-2/
LOCATION:Spanky’s Bar & Grill
ORGANIZER;CN="Crossroads Band":MAILTO:noreply@facebookmail.com
END:VEVENT
BEGIN:VEVENT
DTSTART;TZID=America/Chicago:20250919T190000
DTEND;TZID=America/Chicago:20250919T220000
DTSTAMP:20260424T033826
CREATED:20250911T184331Z
LAST-MODIFIED:20250918T203704Z
UID:33185-1758308400-1758319200@orangeworthy.com
SUMMARY:Classic Movie Night - Shrek 2
DESCRIPTION:Doors 6pmFilm 7pm \nTickets can be purchased ahead of time at the Beaumont Civic Center box office or online now at the buy tickets link admission. \nConcessions are available for be.– Courtesy of IMDb \nClassic Movie Nights are supported by agents. \nIf you purchase tickets from an unauthorized agent in the secondary market (scalper\, ticket broker\, etc) you risk purchasing counterfeit or invalid tickets. Please use caution when purchasing tickets not from the Beaumont Civic Center Box Office or any website other than www.ticketmaster.com. Guests who purchase invalid tickets from the re-sale site must contact that vendor for
URL:https://orangeworthy.com/event/classic-movie-night-shrek-2/
LOCATION:Jefferson Theatre\, 345 Fannin Street\, Beaumont\, TX\, 77701\, US
ORGANIZER;CN="Ticketmaster Events":MAILTO:noreply@facebookmail.com
END:VEVENT
BEGIN:VEVENT
DTSTART;TZID=America/Chicago:20250919T170000
DTEND;TZID=America/Chicago:20250919T193000
DTSTAMP:20260424T033826
CREATED:20250904T160747Z
LAST-MODIFIED:20250918T203703Z
UID:33088-1758301200-1758310200@orangeworthy.com
SUMMARY:MARK PORTIER LIVE @ FREE STATE CELLARS
DESCRIPTION:🎶MARK PORTIER LIVE @ FREE STATE CELLARS \nLive music every Saturday at Free State Cellars!Join us on September 19 from 5:00 – 7:30 PM as we welcome Mark Portier to the vineyard stage. Bring a friend\, grab a glass\, and unwind with great music in a beautiful setting.
URL:https://orangeworthy.com/event/mark-portier-live-free-state-cellars/
LOCATION:Free State Cellars Winery
ORGANIZER;CN="Free State Cellars Winery":MAILTO:noreply@facebookmail.com
END:VEVENT
BEGIN:VEVENT
DTSTART;TZID=America/Chicago:20250919T110000
DTEND;TZID=America/Chicago:20250919T200000
DTSTAMP:20260424T033826
CREATED:20250626T170843Z
LAST-MODIFIED:20250918T203703Z
UID:31445-1758279600-1758312000@orangeworthy.com
SUMMARY:Cousins Maine Lobster at Tractor Supply Co/Orange
DESCRIPTION:🦞📍 Orange\, TX\, we’re headed your way! 🎉 \n🍴 Treat yourself to:• 🥖 Maine & Connecticut Lobster Rolls• 🌮 Lobster Tacos & Quesadillas• 🥔 Lobster Tots• 🍲 Lobster Bisque• 🧁 Whoopie Pies & more! \n📲 Use the CML app to skip the line and earn rewards! 🤳🏽 \n📍 Tractor Supply Co.-Orange\, TX🗓️ Sept. 19🕚 11:00 AM – 8:00 PM
URL:https://orangeworthy.com/event/cousins-maine-lobster-at-tractor-supply-co-orange-2/
LOCATION:2020 i-10 w orang
ORGANIZER;CN="Cousins Maine Lobster - Houston%2C TX":MAILTO:noreply@facebookmail.com
END:VEVENT
BEGIN:VEVENT
DTSTART;TZID=America/Chicago:20250918T183000
DTEND;TZID=America/Chicago:20250918T213000
DTSTAMP:20260424T033826
CREATED:20250911T184330Z
LAST-MODIFIED:20250918T203702Z
UID:33182-1758220200-1758231000@orangeworthy.com
SUMMARY:9th Annual MurdAARRR Mystery Dinner Theatre
DESCRIPTION:Interactive Dinner Theatre and Silent Auction benefitting the Pirate Players.
URL:https://orangeworthy.com/event/9th-annual-murdaarrr-mystery-dinner-theatre/
LOCATION:Vidor High School
END:VEVENT
BEGIN:VEVENT
DTSTART;TZID=America/Chicago:20250918T183000
DTEND;TZID=America/Chicago:20250918T213000
DTSTAMP:20260424T033826
CREATED:20250911T184329Z
LAST-MODIFIED:20250918T203702Z
UID:33180-1758220200-1758231000@orangeworthy.com
SUMMARY:Jefferson Co Go Texan Purse & Pistol BINGO
DESCRIPTION:Join us for a fun-filled evening in supporting our Fall Fundraising event and providing a scholarship for a Jefferson County graduate. Our event includes Dinner\, Door Prizes and Bingo games — Bring your BINGO buddies and your lucky charm for a chance to win designer purses\, high-quality firearms while helping us meet our 2026 Jefferson County Scholarship goals. #PurseAndPistolBingo#SupportingYouthThroughEducation #Jeffersoncogotexan #scholarshipsforseniors
URL:https://orangeworthy.com/event/jefferson-co-go-texan-purse-pistol-bingo/
LOCATION:The Event Centre
END:VEVENT
BEGIN:VEVENT
DTSTART;TZID=America/Chicago:20250918T180000
DTEND;TZID=America/Chicago:20250918T200000
DTSTAMP:20260424T033826
CREATED:20250918T203702Z
LAST-MODIFIED:20250918T203702Z
UID:33264-1758218400-1758225600@orangeworthy.com
SUMMARY:Crossroads Trio at Two Amigos\, Orange
DESCRIPTION:The Crossroads Trio takes the stage again at Two Amigos in Orange! Great food and great music!!!
URL:https://orangeworthy.com/event/crossroads-trio-at-two-amigos-orange-2/
LOCATION:Two Amigos Mexican Restaurant
ORGANIZER;CN="Crossroads Band":MAILTO:noreply@facebookmail.com
END:VEVENT
BEGIN:VEVENT
DTSTART;TZID=America/Chicago:20250918T173000
DTEND;TZID=America/Chicago:20250918T203000
DTSTAMP:20260424T033826
CREATED:20250911T184328Z
LAST-MODIFIED:20250918T203701Z
UID:33179-1758216600-1758227400@orangeworthy.com
SUMMARY:Through the Decades Music Bingo Benefitting Bridge City Band
DESCRIPTION:Join Bridge City Band Boosters for for our 3rd Annual Music Bingo! This year’s theme is Through the Decades! Wear a costume representing your favorite decade. You never know…there could be a prize! \nDoors open at 5:30pm for check in with dinner served until 6:30pm. Bingo will start promptly at 6:30students. \nContact Jennifer Womack at (409) 960-8416 with any questions or sponsorships.  \nAll proceeds raised will help support our amazing Bridge City Band program!
URL:https://orangeworthy.com/event/through-the-decades-music-bingo-benefitting-bridge-city-band/
LOCATION:Bridge City Community Center
ORGANIZER;CN="Bridge City Band Boosters":MAILTO:noreply@facebookmail.com
END:VEVENT
BEGIN:VEVENT
DTSTART;TZID=America/Chicago:20250918T170000
DTEND;TZID=America/Chicago:20250918T200000
DTSTAMP:20260424T033826
CREATED:20250911T184328Z
LAST-MODIFIED:20250918T203701Z
UID:33178-1758214800-1758225600@orangeworthy.com
SUMMARY:Third Thursdays at the Meadery
DESCRIPTION:HERE IT IS!! Third Thursdays at the Meadery will have two special guests this month… War Wagon Cigar Lounge will have their mobile cigar lounge and Ezra Luke will be sending out tunes on the Patio!! Mark it down… September 18th from 5-8PM!! We continue to thank everyone that supports us and grow the HHFM Family! WE WILL SEE YOU THERE!
URL:https://orangeworthy.com/event/third-thursdays-at-the-meadery-2/
LOCATION:Hammered Honey Farms and Mead
ORGANIZER;CN="Hammered Honey Farms and Mead":MAILTO:noreply@facebookmail.com
END:VEVENT
BEGIN:VEVENT
DTSTART;TZID=America/Chicago:20250917T203000
DTEND;TZID=America/Chicago:20250917T233000
DTSTAMP:20260424T033826
CREATED:20250918T203659Z
LAST-MODIFIED:20250918T203659Z
UID:33261-1758141000-1758151800@orangeworthy.com
SUMMARY:Rusty James at Brick & Barley / Ladies Night Wednesday\, 9/17/25)
DESCRIPTION:Brick & Barley in Orange offers the perfect mid-week relief with Ladies Night drink specials\, the weekly 8-Ball tournament and live music from Rusty James starting at 8:30 this Wednesday\, 9/17. \n*Sign ups start at 6:30 for your chance to win some cash in the pool
URL:https://orangeworthy.com/event/rusty-james-at-brick-barley-ladies-night-wednesday-9-17-25/
LOCATION:Brick And Barley
ORGANIZER;CN="Brick And Barley":MAILTO:noreply@facebookmail.com
END:VEVENT
BEGIN:VEVENT
DTSTART;TZID=America/Chicago:20250916T180000
DTEND;TZID=America/Chicago:20250916T210000
DTSTAMP:20260424T033826
CREATED:20250731T165223Z
LAST-MODIFIED:20250911T184327Z
UID:31994-1758045600-1758056400@orangeworthy.com
SUMMARY:CSST NCCER CONSTRUCTION SAFETY CLASS!!!
DESCRIPTION:Don’t miss your spot!!!! FOR OUR NEXT SAFETY CLASS!! CALL FOR MORE INFORMATION!!! OR Come in see us at the office…
URL:https://orangeworthy.com/event/csst-nccer-construction-safety-class/
LOCATION:1503 N 16TH st\, 77630
END:VEVENT
BEGIN:VEVENT
DTSTART;TZID=America/Chicago:20250916T120000
DTEND;TZID=America/Chicago:20250916T130000
DTSTAMP:20260424T033826
CREATED:20250904T160745Z
LAST-MODIFIED:20250911T184327Z
UID:33087-1758024000-1758027600@orangeworthy.com
SUMMARY:Lunch & Learn with the Master Gardeners
DESCRIPTION:Join us at the Orange Public Library on Tuesday\, September 16th from 12:00 – 1:00 pm for a free Lunch & Learn!  \nBring your own lunch and enjoy a discussion on “Fall Gardening\,” led by the Orange County Master Gardeners! For more information\, please contact Texas A&M AgriLife Extension – Orange County at 409-882-7010.
URL:https://orangeworthy.com/event/lunch-learn-with-the-master-gardeners/
LOCATION:220 5th St\, Orange\, TX\, United States\, Texas 77630
ORGANIZER;CN="Orange Public Library":MAILTO:noreply@facebookmail.com
END:VEVENT
BEGIN:VEVENT
DTSTART;TZID=America/Chicago:20250914T193000
DTEND;TZID=America/Chicago:20250914T223000
DTSTAMP:20260424T033826
CREATED:20250911T184327Z
LAST-MODIFIED:20250911T184327Z
UID:33176-1757878200-1757889000@orangeworthy.com
SUMMARY:Casey Chesnutt
DESCRIPTION:Casey is headed back to the Fox!!! We have surely missed him while he has been on the road!! If you haven’t been to one of his intimate acoustic shows – you are truly missing out!
URL:https://orangeworthy.com/event/casey-chesnutt/
LOCATION:The Silver Fox\, 2095 Texas Ave\, Bridge City\, TX\, 77611\, US
ORGANIZER;CN="The Silver Fox":MAILTO:noreply@facebookmail.com
END:VEVENT
BEGIN:VEVENT
DTSTART;TZID=America/Chicago:20250914T180000
DTEND;TZID=America/Chicago:20250914T193000
DTSTAMP:20260424T033826
CREATED:20250911T184326Z
LAST-MODIFIED:20250911T184326Z
UID:33175-1757872800-1757878200@orangeworthy.com
SUMMARY:The Dave Melton Family Singers Concert
DESCRIPTION:The Dave Melton Family Singers is a family singing group based out of Franklin\, IN.Dave and his wife Krista are joined by their four of their five children:Kyle\, Kadence\, Macy and Gracie.The Melton Family minsters in concerts\, revivals\, family camps\, and retreats.Cone on out and let their music encourage your heart\, strengthen your faith and remind you of God’s great love for you!
URL:https://orangeworthy.com/event/the-dave-melton-family-singers-concert/
LOCATION:First Christian Church of Orangefield\, Texas\, 4234 FM-408\, Orange\, TX\, 77630\, US
ORGANIZER;CN="First Christian Church of Orangefield%2C Texas":MAILTO:noreply@facebookmail.com
END:VEVENT
BEGIN:VEVENT
DTSTART;TZID=America/Chicago:20250914T160000
DTEND;TZID=America/Chicago:20250914T190000
DTSTAMP:20260424T033826
CREATED:20250911T184325Z
LAST-MODIFIED:20250911T184325Z
UID:33173-1757865600-1757876400@orangeworthy.com
SUMMARY:New Praise and Worship Service
DESCRIPTION:New Praise and Worship Service at Vidor Methodist Church on Sundays at 4:00PM starting September 14th! Come feel the presence of God\, the love of Jesus\, and the power of the Holy Spirit!
URL:https://orangeworthy.com/event/new-praise-and-worship-service/
LOCATION:501 N Main St\, Vidor\, TX\, United States\, Texas 77662
ORGANIZER;CN="Vidor Methodist Church":MAILTO:noreply@facebookmail.com
END:VEVENT
BEGIN:VEVENT
DTSTART;TZID=America/Chicago:20250914T150000
DTEND;TZID=America/Chicago:20250914T180000
DTSTAMP:20260424T033826
CREATED:20250911T184324Z
LAST-MODIFIED:20250911T184324Z
UID:33171-1757862000-1757872800@orangeworthy.com
SUMMARY:Healing Hearts Collective
DESCRIPTION:Healing Hearts Collective: Grief Support GroupJoin us Sunday at 3 PMfor a welcoming support group designed for anyone navigating the journey of grief and loss. 🩵Whether you are mourning the loss of a loved one\, dealing with the end of a relationship\, or facing any form of loss\, you are invited to share your experience in a compassionate and understanding forward.🩵Everyone is welcome\, and you do not have to face your grief alone. 🩵Come be part of a community that honors your experiences and supports your healing
URL:https://orangeworthy.com/event/healing-hearts-collective/
LOCATION:5648 fm 408\, Orange\, TX
ORGANIZER;CN="Yoga Vibe TX Studio & School":MAILTO:noreply@facebookmail.com
END:VEVENT
BEGIN:VEVENT
DTSTART;TZID=America/Chicago:20250914T150000
DTEND;TZID=America/Chicago:20250914T200000
DTSTAMP:20260424T033826
CREATED:20250904T160744Z
LAST-MODIFIED:20250911T184325Z
UID:33085-1757862000-1757880000@orangeworthy.com
SUMMARY:VIVA Beaumont Hispanic Heritage Festival
DESCRIPTION:The City of Beaumont is excited to announce its Annual VIVA Beaumont Hispanic Heritage Festival\, taking place on Sunday\, September 14\, 2025\, from 3:00 PM to 8:00 PM on Main Street in Downtown Beaumont.  \nThis vibrant festival will feature live entertainment\, an array of food trucks\, and a variety of family-friendly activities. Festival highlights include thrilling Lucha libre wrestling matches presented by Fenix Entertainment and live musical performances by Houston’s own Grupo KaChe\, as well as Southeast Texas favorites Lunada and Mariachi Proyecto.  \nGuests can savor a variety of delicious cuisine from diverse food trucks\, with beer and micheladas available for purchase. Experience the colorful\, traditional dances performed by Ballet Folklórico\, presented by the Mexican Heritage Society of Port Arthur\, a true cultural highlight of the event. \nIn addition to the entertainment\, the City of Beaumont is proud to partner with Beaumont Independent School District (BISD) to encourage students in grades 6 to 12 to express their creativity and honor Hispanic heritage through art. This year’s contest invites students to create original works inspired by the theme Mi Cultura\, Mi Orgullo (My Culture\, My Pride). Selected artwork\, judged by the Art Museum of Southeast Texas\, will be showcased at the festival. \nAdmission to the event is free and open to the public. Guests are encouraged to bring lawn chairs and blankets for comfort. Please note that outside alcohol\, tents/canopies\, large umbrellas\, pets\, and cooking equipment are not permitted. Coolers and bags will be subject to search. All vendors and booths must be pre-registered to participate.  \nJoin us for a day of cultural celebration and community fun at the VIVA Beaumont Hispanic Heritage Festival!  \nThe City of Beaumont extends its gratitude to the event signature sponsor ExxonMobil\, along with Del Papa Distributing (stage sponsor)\, HEB (kids zone sponsor) along with Giglio Distributing\, BioLife Plasma Services\, and Education First Federal Credit Union (partner sponsors) for their generous support and appreciates their continued commitment to the community.
URL:https://orangeworthy.com/event/viva-beaumont-hispanic-heritage-festival/
LOCATION:Main Street Outdoor Plaza
ORGANIZER;CN="Beaumont Events":MAILTO:noreply@facebookmail.com
END:VEVENT
BEGIN:VEVENT
DTSTART;TZID=America/Chicago:20250913T210000
DTEND;TZID=America/Chicago:20250914T010000
DTSTAMP:20260424T033826
CREATED:20250911T184324Z
LAST-MODIFIED:20250911T184324Z
UID:33170-1757797200-1757811600@orangeworthy.com
SUMMARY:Todd Howard
DESCRIPTION:Todd Howard@ Texas Ave Tavern SaturdaySeptember 13\, 20259pm to 1am21 and up ONLY
URL:https://orangeworthy.com/event/todd-howard/
LOCATION:Texas Ave. Tavern\, 2845 Texas Ave Ste 500\, Bridge City\, TX\, 77611\, US
ORGANIZER;CN="Texas Ave. Tavern":MAILTO:noreply@facebookmail.com
END:VEVENT
BEGIN:VEVENT
DTSTART;TZID=America/Chicago:20250913T200000
DTEND;TZID=America/Chicago:20250913T230000
DTSTAMP:20260424T033826
CREATED:20250911T184323Z
LAST-MODIFIED:20250911T184323Z
UID:33169-1757793600-1757804400@orangeworthy.com
SUMMARY:Melodies and Mayhem Karaoke
DESCRIPTION:How about some Saturday night karaoke!!! Come on down to the Fox !!!
URL:https://orangeworthy.com/event/melodies-and-mayhem-karaoke/
LOCATION:2095 Texas Ave\, Bridge City\, TX
ORGANIZER;CN="The Silver Fox":MAILTO:noreply@facebookmail.com
END:VEVENT
BEGIN:VEVENT
DTSTART;TZID=America/Chicago:20250913T190000
DTEND;TZID=America/Chicago:20250913T220000
DTSTAMP:20260424T033826
CREATED:20250911T184323Z
LAST-MODIFIED:20250911T184323Z
UID:33168-1757790000-1757800800@orangeworthy.com
SUMMARY:Yugioh World Championship 2025 - OTS Celebration!
DESCRIPTION:Yu-Gi-Oh!World Championship 2025OTS Celebration Event \nSaturday\, September 137:00 pm$15.00 \nEach player will receive:(3) Limited Pack World Championship 2025 booster packsand entry to the
URL:https://orangeworthy.com/event/yugioh-world-championship-2025-ots-celebration/
LOCATION:365 N Main St\, Vidor\, TX\, United States\, Texas 77662
ORGANIZER;CN="Lyons Den":MAILTO:noreply@facebookmail.com
END:VEVENT
BEGIN:VEVENT
DTSTART;TZID=America/Chicago:20250913T183000
DTEND;TZID=America/Chicago:20250913T213000
DTSTAMP:20260424T033826
CREATED:20250612T155048Z
LAST-MODIFIED:20250911T184322Z
UID:31157-1757788200-1757799000@orangeworthy.com
SUMMARY:Barbara Hickey & The Daybreakers @Tia Juanitas (Orange)
DESCRIPTION:Great food and Fun music!!! Lets GO!!!
URL:https://orangeworthy.com/event/barbara-hickey-the-daybreakers-tia-juanitas-orange/
LOCATION:Tia Juanita’s Fish Camp  Orange
END:VEVENT
BEGIN:VEVENT
DTSTART;TZID=America/Chicago:20250913T180000
DTEND;TZID=America/Chicago:20250913T213000
DTSTAMP:20260424T033826
CREATED:20250911T184321Z
LAST-MODIFIED:20250911T184321Z
UID:33165-1757786400-1757799000@orangeworthy.com
SUMMARY:Parents night out! 🥳
DESCRIPTION:• Bounce\, play\, and pizza fun! Parent’s Night Out is THIS Saturday\, Sept 13th • 6–9:30pm. 🍕🥳 \n• Spots still open!– message or call to reserve your little one a spot! 🧡🐾
URL:https://orangeworthy.com/event/parents-night-out-%f0%9f%a5%b3/
LOCATION:Baby Bobcats CDC
END:VEVENT
BEGIN:VEVENT
DTSTART;TZID=America/Chicago:20250913T170000
DTEND;TZID=America/Chicago:20250913T193000
DTSTAMP:20260424T033826
CREATED:20250904T160744Z
LAST-MODIFIED:20250911T184321Z
UID:33084-1757782800-1757791800@orangeworthy.com
SUMMARY:BRITTANY HOUSTON LIVE @ FREE STATE CELLARS
DESCRIPTION:🎶BRITTANY HOUSTON LIVE @ FREE STATE CELLARS \nLive music every Saturday at Free State Cellars!Join us on September 13 from 5:00 – 7:30 PM as we welcome Brittany Houston to the vineyard stage. Bring a friend\, grab a glass\, and unwind with great music in a beautiful setting.
URL:https://orangeworthy.com/event/brittany-houston-live-free-state-cellars/
LOCATION:Free State Cellars Winery
ORGANIZER;CN="Free State Cellars Winery":MAILTO:noreply@facebookmail.com
END:VEVENT
BEGIN:VEVENT
DTSTART;TZID=America/Chicago:20250913T120000
DTEND;TZID=America/Chicago:20250913T220000
DTSTAMP:20260424T033826
CREATED:20250814T153654Z
LAST-MODIFIED:20250911T184320Z
UID:32223-1757764800-1757800800@orangeworthy.com
SUMMARY:Hot Air Balloon Glo Festival
DESCRIPTION:Hot Air Balloon Glo Festival 2025! There will be 10 Hot Air Balloons Glo\, tethered balloon ride\, local band\, food trucks\, arts and craft vendors\, Zidzone Inflatables and a petting zoo!
URL:https://orangeworthy.com/event/hot-air-balloon-glo-festival/
LOCATION:Bridge City Elementary School
ORGANIZER;CN="Bridge City Chamber":MAILTO:noreply@facebookmail.com
END:VEVENT
END:VCALENDAR