BEGIN:VCALENDAR
VERSION:2.0
PRODID:-//Orange County Local Scoop - ECPv6.15.20//NONSGML v1.0//EN
CALSCALE:GREGORIAN
METHOD:PUBLISH
X-ORIGINAL-URL:https://orangeworthy.com
X-WR-CALDESC:Events for Orange County Local Scoop
REFRESH-INTERVAL;VALUE=DURATION:PT1H
X-Robots-Tag:noindex
X-PUBLISHED-TTL:PT1H
BEGIN:VTIMEZONE
TZID:America/Chicago
BEGIN:DAYLIGHT
TZOFFSETFROM:-0600
TZOFFSETTO:-0500
TZNAME:CDT
DTSTART:20240310T080000
END:DAYLIGHT
BEGIN:STANDARD
TZOFFSETFROM:-0500
TZOFFSETTO:-0600
TZNAME:CST
DTSTART:20241103T070000
END:STANDARD
BEGIN:DAYLIGHT
TZOFFSETFROM:-0600
TZOFFSETTO:-0500
TZNAME:CDT
DTSTART:20250309T080000
END:DAYLIGHT
BEGIN:STANDARD
TZOFFSETFROM:-0500
TZOFFSETTO:-0600
TZNAME:CST
DTSTART:20251102T070000
END:STANDARD
BEGIN:DAYLIGHT
TZOFFSETFROM:-0600
TZOFFSETTO:-0500
TZNAME:CDT
DTSTART:20260308T080000
END:DAYLIGHT
BEGIN:STANDARD
TZOFFSETFROM:-0500
TZOFFSETTO:-0600
TZNAME:CST
DTSTART:20261101T070000
END:STANDARD
END:VTIMEZONE
BEGIN:VEVENT
DTSTART;TZID=America/Chicago:20251017T110000
DTEND;TZID=America/Chicago:20251017T200000
DTSTAMP:20260419T235140
CREATED:20250814T153704Z
LAST-MODIFIED:20250918T203749Z
UID:32230-1760698800-1760731200@orangeworthy.com
SUMMARY:Cousins Maine Lobster at Tractor Supply Co/Orange
DESCRIPTION:🦞 Orange\, we’re rollin’ into Tractor Supply with the lobster you love! 🎉 🧡🚚 \n🍴 Come hungry for:• 🥖 Maine & Connecticut Lobster Rolls• 🌮 Lobster Tacos & Quesadillas• 🥔 Crispy Lobster Tots• 🧀 Lobster Grilled Cheese• 🍲 Creamy Lobster Bisque• 🧁 Whoopie Pies & more! \n📲 Beat the line with the CML app—order ahead & earn rewards! 🤳🏾 \n📍 Tractor Supply – Orange\, TX🗓️ October 17🕚 11:00 AM – 8:00 PM
URL:https://orangeworthy.com/event/cousins-maine-lobster-at-tractor-supply-co-orange/
LOCATION:2020 I-10 W\, Orange\, TX 77632-4432\, United States
ORGANIZER;CN="Cousins Maine Lobster - Houston%2C TX":MAILTO:noreply@facebookmail.com
END:VEVENT
BEGIN:VEVENT
DTSTART;TZID=America/Chicago:20251016T103000
DTEND;TZID=America/Chicago:20251016T183000
DTSTAMP:20260419T235140
CREATED:20250821T153122Z
LAST-MODIFIED:20250918T203748Z
UID:32354-1760610600-1760639400@orangeworthy.com
SUMMARY:The Faith Pumpkin Patch
DESCRIPTION:The Faith Pumpkin Patch will open on October 16th\, from 10:30 am – 6:30 pm and closed on Sundays. The patch will run through November 1. Come take pictures in the patch\, go on a scavenger hunt\, and buy your pumpkins to decorate with or to cook with.  \nhttps://www.facebook.com/events/774632095049244/?event_time_id=774632151715905
URL:https://orangeworthy.com/event/the-faith-pumpkin-patch/
LOCATION:8608 Martin Luther King Jr Dr\, Orange\, TX\, United States\, Texas 77632
ORGANIZER;CN="Faith Methodist":MAILTO:noreply@facebookmail.com
END:VEVENT
BEGIN:VEVENT
DTSTART;TZID=America/Chicago:20251014T173000
DTEND;TZID=America/Chicago:20251014T190000
DTSTAMP:20260419T235140
CREATED:20250911T184357Z
LAST-MODIFIED:20250918T203748Z
UID:33223-1760463000-1760468400@orangeworthy.com
SUMMARY:SMUGGLERS UNION MONTHLY MEETING
DESCRIPTION:WINE CLUB PERK ALERT! \nOn the second Tuesday of every month\, we open our Sunday House Tasting Room for MONTHLY MEETINGS—exclusively for active Smugglers Union members and their https://www.freestatecellars.com/Wine-Club \nhttps://www.facebook.com/events/10071067192995178/?event_time_id=10071067209661843
URL:https://orangeworthy.com/event/smugglers-union-monthly-meeting/
LOCATION:4702 Tejas Parkway\, Orange\, TX\, United States\, Texas 77632
ORGANIZER;CN="Free State Cellars Winery":MAILTO:noreply@facebookmail.com
END:VEVENT
BEGIN:VEVENT
DTSTART;TZID=America/Chicago:20251013T193000
DTEND;TZID=America/Chicago:20251013T223000
DTSTAMP:20260419T235140
CREATED:20250731T165230Z
LAST-MODIFIED:20250918T203747Z
UID:31998-1760383800-1760394600@orangeworthy.com
SUMMARY:Homecoming Bonfire & Community Pep Rally
DESCRIPTION:🔥🎉 The Homecoming Bonfire & Community Pep Rally is Back! 🎉🔥We’re thrilled to bring back a favorite tradition to kick off Homecoming Week — and it’s going to be packed with Pirate Pride! 🏴‍☠️💛🖤📅 Monday\, October 13\, 2025🕢 7:30 PM📍 Conn Park Complex (behind the City Pool)💥 FREE Event – All are welcome!This isn’t a VISD-sponsored event\, but we’re proud to have the Brigs\, Band\, Twirlers\, Cheerleaders\, and Football Players joining us to help light the fire — both literally and figuratively! 🔥🎶🏈🎪 VISD boosters are invited to set up informational or fundraising booths (no food or drinks\, please). It’s a great chance to support your booster club! Contact me directly if
URL:https://orangeworthy.com/event/homecoming-bonfire-community-pep-rally/
LOCATION:19075 IH -10\, Vidor\, TX\, United States\, Texas 77662
END:VEVENT
BEGIN:VEVENT
DTSTART;TZID=America/Chicago:20251012T153000
DTEND;TZID=America/Chicago:20251012T154500
DTSTAMP:20260419T235140
CREATED:20250911T184334Z
LAST-MODIFIED:20250918T203746Z
UID:33191-1760283000-1760283900@orangeworthy.com
SUMMARY:Membership Meeting #3 - SEA RIM STRIDERS 2025
DESCRIPTION:Discussing upcoming SRS events: Turkey Trotand any expenses needing to be discussions.***Only 2025 Club Members are eligible to vote at this meeting***
URL:https://orangeworthy.com/event/membership-meeting-3-sea-rim-striders-2025/
LOCATION:Exygon Health and Fitness Club
ORGANIZER;CN="Sea Rim Striders":MAILTO:noreply@facebookmail.com
END:VEVENT
BEGIN:VEVENT
DTSTART;TZID=America/Chicago:20251011T200000
DTEND;TZID=America/Chicago:20251011T230000
DTSTAMP:20260419T235140
CREATED:20250612T155051Z
LAST-MODIFIED:20250918T203746Z
UID:31161-1760212800-1760223600@orangeworthy.com
SUMMARY:Jamey Johnson: The Last Honky Tonk Tour
DESCRIPTION:Must be 21 and Over \nSale Dates and Times: \nPublic Onsale : Fri\, 13 Jun 2025 at 10:00 AM \nArtist Presale : Wed\, 11 Jun 2025 at 10:00 AM \nPENN Play Presale : Thu\, 12 Jun 2025 at 10:00 AM \nVIP Package Presale : Wed\, 11 Jun 2025 at 10:00 AM \nVIP Package Onsale : Fri\, 13 Jun 2025 at 10:00 AM
URL:https://orangeworthy.com/event/jamey-johnson-the-last-honky-tonk-tour/
LOCATION:L’Auberge Casino Resort Lake Charles
ORGANIZER;CN="Ticketmaster Events":MAILTO:noreply@facebookmail.com
END:VEVENT
BEGIN:VEVENT
DTSTART;TZID=America/Chicago:20251011T180000
DTEND;TZID=America/Chicago:20251012T000000
DTSTAMP:20260419T235140
CREATED:20250911T184356Z
LAST-MODIFIED:20250918T203746Z
UID:33222-1760205600-1760227200@orangeworthy.com
SUMMARY:🎉 War Wagon Cigar Lounge Anniversary Party 🎉
DESCRIPTION:Join us as we celebrate another year of great cigars\, good friends\, and unforgettable nights! Our Anniversary Party will feature live music from Brain Racca Jr.\, the Bread Bus serving up amazing eats\, and exciting raffles & giveaways every hour\, on the hour! \nWhether you’re a member or a first-time visitor\, this is the night to relax\, unwind\, and celebrate with the War Wagon family. Come for the cigars\, stay for the fun\, and let’s make this anniversary one to remember! \n📅 Date: Friday\, October 11th🕖 Time: 6 PM – 12 AM📍 Location: War Wagon Cigar Lounge \nDon’t miss out – we’ll see you there!
URL:https://orangeworthy.com/event/%f0%9f%8e%89-war-wagon-cigar-lounge-anniversary-party-%f0%9f%8e%89/
LOCATION:8480 HWY 87 N\, Orange\, TX
ORGANIZER;CN="War Wagon Cigar Lounge":MAILTO:noreply@facebookmail.com
END:VEVENT
BEGIN:VEVENT
DTSTART;TZID=America/Chicago:20251011T170000
DTEND;TZID=America/Chicago:20251011T193000
DTSTAMP:20260419T235140
CREATED:20250904T160806Z
LAST-MODIFIED:20250918T203745Z
UID:33105-1760202000-1760211000@orangeworthy.com
SUMMARY:CORY SELLARS LIVE @ FREE STATE CELLARS
DESCRIPTION:🎶CORY SELLARS LIVE @ FREE STATE CELLARS \nLive music every Saturday at Free State Cellars!Join us on October 11 from 5:00 – 7:30 PM as we welcome Cory Sellars to the vineyard stage. Bring a friend\, grab a glass\, and unwind with great music in a beautiful setting.
URL:https://orangeworthy.com/event/cory-sellars-live-free-state-cellars/
LOCATION:Free State Cellars Winery
ORGANIZER;CN="Free State Cellars Winery":MAILTO:noreply@facebookmail.com
END:VEVENT
BEGIN:VEVENT
DTSTART;TZID=America/Chicago:20251011T110000
DTEND;TZID=America/Chicago:20251011T140000
DTSTAMP:20260419T235140
CREATED:20250723T210003Z
LAST-MODIFIED:20250918T203745Z
UID:31863-1760180400-1760191200@orangeworthy.com
SUMMARY:The Magic of Kevin Spencer
DESCRIPTION:The Magic of Kevin Spencer is a performance for people of all ages and abilities. It features award-winning magician Kevin Spencer in a fun-filled show that combines storytelling\, stage magic and audience participation.  \nThis sensory-inclusive performance is designed to create an experience that is welcoming to all audiences including families with children with autism or other developmental or intellectual disabilities that create sensory sensitivities. This is a show the entire family will enjoy! \n🗓️ Saturday\, October 11\, 2025 @ 11 a.m. \n🎟️ Tickets: $18 for Adults & $13 for Kids (All fees included)All tickets to this show are General
URL:https://orangeworthy.com/event/the-magic-of-kevin-spencer/
LOCATION:Lutcher Theater
ORGANIZER;CN="Lutcher Theater":MAILTO:noreply@facebookmail.com
END:VEVENT
BEGIN:VEVENT
DTSTART;TZID=America/Chicago:20251011T100000
DTEND;TZID=America/Chicago:20251011T130000
DTSTAMP:20260419T235140
CREATED:20250918T203744Z
LAST-MODIFIED:20250918T203744Z
UID:33332-1760176800-1760187600@orangeworthy.com
SUMMARY:CCOC ARENA Pink Out Playday October 11 -- ONLINE REGISTRATION OPEN NOW
DESCRIPTION:CLICK THE PIC for full flyer with details. See you there!
URL:https://orangeworthy.com/event/ccoc-arena-pink-out-playday-october-11-online-registration-open-now/
LOCATION:CCOC Rodeo Arena 673 FM 1078 Orange TX
ORGANIZER;CN="Cowboy Church of Orange County":MAILTO:noreply@facebookmail.com
END:VEVENT
BEGIN:VEVENT
DTSTART;TZID=America/Chicago:20251011T100000
DTEND;TZID=America/Chicago:20251011T130000
DTSTAMP:20260419T235140
CREATED:20250904T160805Z
LAST-MODIFIED:20250918T203743Z
UID:33104-1760176800-1760187600@orangeworthy.com
SUMMARY:CCOC ARENA 2025 Pink Out Playday
DESCRIPTION:Click the pic for full flyer with
URL:https://orangeworthy.com/event/ccoc-arena-2025-pink-out-playday/
LOCATION:673 FM 1078 \, Orange\, TX\, United States\, Texas 77632
ORGANIZER;CN="CCOC Outdoor & Family Ministries":MAILTO:noreply@facebookmail.com
END:VEVENT
BEGIN:VEVENT
DTSTART;TZID=America/Chicago:20251011T100000
DTEND;TZID=America/Chicago:20251011T130000
DTSTAMP:20260419T235140
CREATED:20250904T160803Z
LAST-MODIFIED:20250918T203743Z
UID:33101-1760176800-1760187600@orangeworthy.com
SUMMARY:Pink Out Playday
DESCRIPTION:OCTOBER 11th ~ Pink Out Playday 💕 \n * Mark Your Calendars * \n🐎Lots of new stuff this year!  \n🏅Our Arena Team has grown and so has the arena events and offerings!  \n💗 Pre Registration is Now Open!
URL:https://orangeworthy.com/event/pink-out-playday/
LOCATION:CCOC Rodeo Arena
END:VEVENT
BEGIN:VEVENT
DTSTART;TZID=America/Chicago:20251011T100000
DTEND;TZID=America/Chicago:20251011T160000
DTSTAMP:20260419T235140
CREATED:20250710T155829Z
LAST-MODIFIED:20250918T203744Z
UID:31659-1760176800-1760198400@orangeworthy.com
SUMMARY:14th Annual Touch-A-Truck & S.T.E.A.M. Fair!
DESCRIPTION:October 11\, 202510:00 AM to 4:00 PM701 Main Street\, Beaumont\, TX 77701—*****TICKET SALES WILL OPEN ON SEPT. 2ND*****TICKETS:Non-Members: $10 per personAnnual Members & Museums for All Members*: $5 per person \nOnline Early Ticket Sales will be available until OCT. 3RD:Non-Members: $8 per personAnnual Members & Museums for All Members*: $4 per person \nAll tickets include entrance to the museum & S.T.E.A.M. Fair discount.*—Our annual Touch-A-Truck provides unique opportunity for children to explore vehicles of all types – public service\, emergency\, utility\, construction\, transportation\, delivery\, and just cool – all in one place! Children will be allowed to touch\, climb on\, and ask questions about their favorite trucks in a safe\, supervised environment. Accompanying personnel will teach the children about the equipment displayed and how these machines help our community and us! \nAll money raised goes back to BCM’s operations\, educational programs\, activities\, and camps throughout the year! We are a 501(c)3 non-profit museum that believes in learning through play with carefully selected exhibits to promote S.T.E.A.M. focused learning (Science\, Technology\, Engineering\, Art\, and Math). We strive to promote family fun\, and an interactive environment where children thrive and get excited about learning!
URL:https://orangeworthy.com/event/14th-annual-touch-a-truck-s-t-e-a-m-fair/
LOCATION:701 Main St (NORTH ENTRANCE)\, Beaumont\, TX\, United States\, Texas 77701
ORGANIZER;CN="Beaumont Children's Museum":MAILTO:noreply@facebookmail.com
END:VEVENT
BEGIN:VEVENT
DTSTART;TZID=America/Chicago:20251011T090000
DTEND;TZID=America/Chicago:20251011T120000
DTSTAMP:20260419T235140
CREATED:20250918T203742Z
LAST-MODIFIED:20250918T203742Z
UID:33329-1760173200-1760184000@orangeworthy.com
SUMMARY:Fall Garden Fundraiser
DESCRIPTION:All Field of Plenty followers are invited to visit the garden as we prepare for the Fall Donation Garden season. We will have tours of the garden\, including sweet potatoes\, okra\, yard long beans and our new butterfly garden raised home. \nChildren are welcome when accompanied by a participating adult.Light refreshments will be served!
URL:https://orangeworthy.com/event/fall-garden-fundraiser/
LOCATION:2120 Wickard\, Orange\, TX\, United States\, Texas 77630
END:VEVENT
BEGIN:VEVENT
DTSTART;TZID=America/Chicago:20251009T193000
DTEND;TZID=America/Chicago:20251009T220000
DTSTAMP:20260419T235140
CREATED:20250918T203741Z
LAST-MODIFIED:20250918T203741Z
UID:33328-1760038200-1760047200@orangeworthy.com
SUMMARY:Blithe Spirit
DESCRIPTION:Join us for a spirited and whimsical evening with Noël Coward’s effervescent comedy\, Blithe Spirit\, directed by the brilliant Chase Slaughter. Brought to life by the Orange Community Players\, this sparkling production dives into the hilarious chaos of love\, jealousy\, and the supernatural\, delivering a delightful mix of wit and charm that will captivate audiences of all dialogue. \nPrepare for an enchanting performance brimming with spectral surprises\, eccentric characters\, and laugh-out-loud moments. Chase Slaughter’s inspired direction brings a fresh\, vibrant energy to this beloved farce\, with a stellar cast ready to whisk you into a world where the living and the ghostly collide in the most unexpected charmed. \nBlithe Spirit is presented by arrangement with Concord Theatricals on behalf of Samuel French\, Inc.
URL:https://orangeworthy.com/event/blithe-spirit/
LOCATION:3330 Bowling Ln\, Orange\, TX\, United States\, Texas 77630
ORGANIZER;CN="Orange Community Players%2C Inc.":MAILTO:noreply@facebookmail.com
END:VEVENT
BEGIN:VEVENT
DTSTART;TZID=America/Chicago:20251004T210000
DTEND;TZID=America/Chicago:20251005T000000
DTSTAMP:20260419T235140
CREATED:20250911T184353Z
LAST-MODIFIED:20250918T203741Z
UID:33217-1759611600-1759622400@orangeworthy.com
SUMMARY:William Clark Green LIVE at the Orangetober Festival
DESCRIPTION:Mark your calendars\, William Clark Green is set to perform as the headliner at the 5th Annual Orangetober Festival in Orange\, Texas on Saturday\, October 4th at the Riverside Pavilion! \nWilliam Clark Green is a Texas-born singer-songwriter known for his raw\, honest songwriting and electrifying live shows. With over 15 years of storytelling through song\, the Flint\, Texas native has built a reputation that transcends state lines\, combining a love for tradition with a fearless drive to evolve. His band is as road-tested as they come\, and together they create a sound that blends emotion and authenticity. He’s all grit\, all true\, and all out there. The songs on his six studio albums draw inspiration from roots rock\, Western balladry\, and even orchestral strings\, and Green continues to push boundaries while staying true to his signature style.  \nWhat to know about the Orangetober Festival:– FREE admission to the Orangetober Festival– Festival gates open at 10:00 am– Live music with Brandon Bennett Band at 5:30 pm– Live music with Clare Dunn at 7:15 pm– Live music with William Clark Green at 9:00 pm– Chairs are welcome on the lawn of the Riverside Pavilion– Food and adult beverages are available for purchase \nWhat is not allowed in the gates:– No outside coolers are permitted– No pets are permitted \nFor additional information\, please contact the Explore Orange Convention and Visitors Bureau at 409-883-1011 or online at https://orangetexas.gov/411/Orangetober-Festival.  \nFollow @exploreorange on social media to stay up to date on all things Orangetober!
URL:https://orangeworthy.com/event/william-clark-green-live-at-the-orangetober-festival/
LOCATION:701 Simmons Dr\, Orange\, TX 77630-5257\, United States
ORGANIZER;CN="Explore Orange":MAILTO:noreply@facebookmail.com
END:VEVENT
BEGIN:VEVENT
DTSTART;TZID=America/Chicago:20251004T170000
DTEND;TZID=America/Chicago:20251004T193000
DTSTAMP:20260419T235140
CREATED:20250904T160803Z
LAST-MODIFIED:20250918T203738Z
UID:33100-1759597200-1759606200@orangeworthy.com
SUMMARY:CLAY & MARKIE LIVE @ FREE STATE CELLARS
DESCRIPTION:🎶CLAY & MARKIE LIVE @ FREE STATE CELLARS \nLive music every Saturday at Free State Cellars!Join us on October 4 from 5:00 – 7:30 PM as we welcome Clay & Markie to the vineyard stage. Bring a friend\, grab a glass\, and unwind with great music in a beautiful setting.
URL:https://orangeworthy.com/event/clay-markie-live-free-state-cellars/
LOCATION:Free State Cellars Winery
ORGANIZER;CN="Free State Cellars Winery":MAILTO:noreply@facebookmail.com
END:VEVENT
BEGIN:VEVENT
DTSTART;TZID=America/Chicago:20251004T150000
DTEND;TZID=America/Chicago:20251004T180000
DTSTAMP:20260419T235140
CREATED:20250731T165227Z
LAST-MODIFIED:20250918T203738Z
UID:31996-1759590000-1759600800@orangeworthy.com
SUMMARY:Oktoberfest Beaumont - 10th Annual
DESCRIPTION:🎉 Prost\, Beaumont! 🍺Get ready to raise your steins and celebrate a decade of fun at the 10th Annual Oktoberfest on Saturday\, October 4\, 2025\, at Rogers Park! \n🎶 Headliner: Madam Radar – Rocking the stage with electrifying live music!🍻 Beer Garden – Sip and savor seasonal brews and local ones.🌭 Food Vendors – Enjoy delicious bites from local food trucks and
URL:https://orangeworthy.com/event/oktoberfest-beaumont-10th-annual/
LOCATION:Rogers Park
ORGANIZER;CN="Beaumont Events":MAILTO:noreply@facebookmail.com
END:VEVENT
BEGIN:VEVENT
DTSTART;TZID=America/Chicago:20251004T130000
DTEND;TZID=America/Chicago:20251004T160000
DTSTAMP:20260419T235140
CREATED:20250904T160802Z
LAST-MODIFIED:20250918T203737Z
UID:33099-1759582800-1759593600@orangeworthy.com
SUMMARY:Baseball Day – Divisional Playoffs at War Wagon Cigar Lounge
DESCRIPTION:The playoffs are here\, and we’re ready to watch the action unfold! Come hang out\, enjoy your favorite cigars\, and catch the big plays on our screens.We will update when the game schedule has been updated with times! \nHappy Hour runs 4–6:30 PM with $1 off beers\, wine\, and mead—perfect for getting settled before the action starts. Bring a friend\, grab a smoke\, and soak in the playoff vibes!
URL:https://orangeworthy.com/event/baseball-day-divisional-playoffs-at-war-wagon-cigar-lounge/
LOCATION:8480 HWY 87 N\, Orange\, TX\, United States\, Texas
ORGANIZER;CN="War Wagon Cigar Lounge":MAILTO:noreply@facebookmail.com
END:VEVENT
BEGIN:VEVENT
DTSTART;TZID=America/Chicago:20251004T103000
DTEND;TZID=America/Chicago:20251004T120000
DTSTAMP:20260419T235140
CREATED:20250814T153701Z
LAST-MODIFIED:20250918T203737Z
UID:32228-1759573800-1759579200@orangeworthy.com
SUMMARY:Modern Calligraphy for Beginners at North Orange Baptist Church
DESCRIPTION:Join Sip & ScriptⓇ for Modern Calligraphy Fun! \nJoin us at North Orange Baptist Church in Orange\, TX for pretty lettering! Whether you’re a stationery nerd\, DIY Bride-to-be\, or just a crafty individual\, you’ll be introduced to modern calligraphy with a pointed dip pen and ink in this workshop. We will cover all the basics and prepare you to add those unique lettered details to your snail mail\, wedding paper goods\, home decor\, and more! The perfect crafty night out! \nClass includes 1.5 hours of instruction and demonstration\, our beginner’s calligraphy kit (two nibs\, black ink pot\, 2 letter guides\, tracing paper\, and straight pen holder)\, and all materials to write on. Everything is yours to keep at the end of the workshop! \nGet your tickets below! \nFeel free to come early and grab your seat. Guests are welcome to bring their own food and non-alcoholic beverages to class. Class will start promptly at 10:30 AM!  \nClass Expectations: Yes\, lefties are welcome too! This class is encouraged for someone who has never taken a calligraphy class before. We teach the basics\, and our expectation for you is to have ink flowing through your nib with enough confidence to be able to practice way beyond class. We love using tracing paper with our guides to help you build muscle memory and develop your own style!If you have tried calligraphy out before\, this class will be a great refresher and hopefully a chance to try some new supplies from our beginner kit that will re-introduce you to this lovely form of art! \nA note on bringing guests 16 and under: We love to share this passion with kids. You are welcome to get a ticket for your child\, but we ask that a ticketed adult accompany anyone under the age of 16 at all
URL:https://orangeworthy.com/event/modern-calligraphy-for-beginners-at-north-orange-baptist-church/
LOCATION:North Orange Baptist Church
END:VEVENT
BEGIN:VEVENT
DTSTART;TZID=America/Chicago:20251004T100000
DTEND;TZID=America/Chicago:20251004T130000
DTSTAMP:20260419T235140
CREATED:20250911T184350Z
LAST-MODIFIED:20250918T203736Z
UID:33214-1759572000-1759582800@orangeworthy.com
SUMMARY:Cornhole Tournament
DESCRIPTION:Join us for a Cornhole Tournament at the Orangetober Festival! This will be a double elimination tournament with a cash prize for 1st place and 2nd place. Teams will consist of two players. There is a $50 nonrefundable registration fee per team. By registering\, ALL players agree to abide by rules.Please register no later than Saturday\, September 27\, 2025. \nRegister on the Scoreholio app.
URL:https://orangeworthy.com/event/cornhole-tournament/
LOCATION:Riverside Pavilion Orange\, Texas\, Orange\, TX\, 77630\, US
ORGANIZER;CN="United Way of Orange County":MAILTO:noreply@facebookmail.com
END:VEVENT
BEGIN:VEVENT
DTSTART;TZID=America/Chicago:20251004T100000
DTEND;TZID=America/Chicago:20251004T170000
DTSTAMP:20260419T235140
CREATED:20250807T160709Z
LAST-MODIFIED:20250918T203737Z
UID:32101-1759572000-1759597200@orangeworthy.com
SUMMARY:Orangetober Retail Market
DESCRIPTION:The Rotary Club of Orange will be hosting a Retail Vendor Market on Saturday\, October 4th from 10:00 am – 5:00 pm during the Orangetober Festival at Riverside Pavilion!  \nTo register as a retail market vendor\, please complete and return the form and payment to the Rotary Club of Orange by Friday\, September 19\, 2025.Registration Forms: Orangetober: Rotary Vendor MarketFor more information\, contact Heather with the Rotary Club of Orange at heather@
URL:https://orangeworthy.com/event/orangetober-retail-market/
LOCATION:Riverside Pavilion Orange\, Texas\, Orange\, TX\, 77630\, US
END:VEVENT
BEGIN:VEVENT
DTSTART;TZID=America/Chicago:20251004T100000
DTEND;TZID=America/Chicago:20251004T160000
DTSTAMP:20260419T235140
CREATED:20250807T160708Z
LAST-MODIFIED:20250918T203736Z
UID:32098-1759572000-1759593600@orangeworthy.com
SUMMARY:48th Annual Butterfly Fall Festival October 2025
DESCRIPTION:Celebrate our 48th annual fall fest with a full day family fun and a liv butterfly release! Enjoy a variety of local vendors\, tasty food\, exciting games\, and festival fall activities for all ages. Bring your friends\, bring your family and don’t miss this cherished jasper tradition.
URL:https://orangeworthy.com/event/48th-annual-butterfly-fall-festival-october-2025/
LOCATION:Sandy Creek Park\, Jasper\, Txas.
END:VEVENT
BEGIN:VEVENT
DTSTART;TZID=America/Chicago:20251004T090000
DTEND;TZID=America/Chicago:20251004T140000
DTSTAMP:20260419T235140
CREATED:20250911T184349Z
LAST-MODIFIED:20250918T203735Z
UID:33213-1759568400-1759586400@orangeworthy.com
SUMMARY:First Saturday Sale
DESCRIPTION:Please join us for our first Saturday sale!
URL:https://orangeworthy.com/event/first-saturday-sale/
LOCATION:350 N 37th Street\, Orange\, TX
ORGANIZER;CN="Thrift & Gift Shop":MAILTO:noreply@facebookmail.com
END:VEVENT
BEGIN:VEVENT
DTSTART;TZID=America/Chicago:20251004T080000
DTEND;TZID=America/Chicago:20251004T110000
DTSTAMP:20260419T235140
CREATED:20250612T155050Z
LAST-MODIFIED:20250918T203735Z
UID:31160-1759564800-1759575600@orangeworthy.com
SUMMARY:The Big Pumpkin Run
DESCRIPTION:The Big Pumpkin Run 5K will take you through the historic streets of Orange. You will see such sites as the Sabine River\, the historic Stark House\, Lutcher Theater\, Stark museum\, and the Orange Train Depot Museum on this 1 looped course. After you finish enjoy a great post race party with pumpkin treats at the Riverside Pavilion. \nSign up here!
URL:https://orangeworthy.com/event/the-big-pumpkin-run/
LOCATION:Riverside Pavillion 708 Simmons Drive\, Orange Texas
ORGANIZER;CN="3 Bros Running Company":MAILTO:noreply@facebookmail.com
END:VEVENT
BEGIN:VEVENT
DTSTART;TZID=America/Chicago:20251003T113000
DTEND;TZID=America/Chicago:20251003T183000
DTSTAMP:20260419T235140
CREATED:20250814T153659Z
LAST-MODIFIED:20250918T203735Z
UID:32225-1759491000-1759516200@orangeworthy.com
SUMMARY:Showgirls and Swifties: Album Release Party
DESCRIPTION:✨ Calling all Swifties! Grab your glitter\, feathers\, and besties because we’re throwing the ultimate album drop party for Taylor’s newest
URL:https://orangeworthy.com/event/showgirls-and-swifties-album-release-party/
LOCATION:314 Henrietta Orange\, TX 77630\, Orange\, TX
ORGANIZER;CN="Growth Hair Studio":MAILTO:noreply@facebookmail.com
END:VEVENT
BEGIN:VEVENT
DTSTART;TZID=America/Chicago:20250930T180000
DTEND;TZID=America/Chicago:20250930T200000
DTSTAMP:20260419T235140
CREATED:20250918T203734Z
LAST-MODIFIED:20250918T203734Z
UID:33323-1759255200-1759262400@orangeworthy.com
SUMMARY:Speak Lord\, Your Servant is Listening
DESCRIPTION:Deacon Harold is hosting renowned speakers from Parousia Media in Australia for a special Speak Lord\, Your Servant is Listening United States tour featuring events in five cities.  \nThis is a FREE parish mission evening event with an opportunity for questions & answers. Powerful talks plus opportunities to meet the speakers and great resources available at each event make this tour a can’t miss evangelization.
URL:https://orangeworthy.com/event/speak-lord-your-servant-is-listening/
LOCATION:St. Francis of Assisi Church Orange
END:VEVENT
BEGIN:VEVENT
DTSTART;TZID=America/Chicago:20250930T140000
DTEND;TZID=America/Chicago:20250930T150000
DTSTAMP:20260419T235140
CREATED:20250904T160759Z
LAST-MODIFIED:20250918T203733Z
UID:33098-1759240800-1759244400@orangeworthy.com
SUMMARY:Go Beyond the Road with TxDOT
DESCRIPTION:What goes into (and under) Texas’ roads and highways?🛣️ Join Rebekah Dobrasko\, Cultural Resources Director for TxDOT Environmental Affairs\, on September 30\, 2025 from 2–3 p.m. for a fascinating look at how the Texas Department of Transportation integrates environmental and historical preservation into its planning and projects. 🌄  \nFrom archeological sites and the discovery of caves in Central Texas to the preservation of historic bridges like the Rainbow Bridge\, Dobrasko will take us on a road trip through the hidden stories beneath our roadways. She will also highlight the creation of the “A Time Before Texas” website and traveling exhibit\, developed in response to archeological findings in South Texas and how TxDOT preserves our important environmental resources and history while building our transportation systems. 🚗 \nThis program will be held in-person in the Walter G. Riedel III Education Center at the Stark Museum of Art in Orange\, Texas. Admission is Humanities.
URL:https://orangeworthy.com/event/go-beyond-the-road-with-txdot/
LOCATION:712 Green Ave\, Orange\, TX\, United States\, Texas 77630
ORGANIZER;CN="Stark Museum of Art":MAILTO:noreply@facebookmail.com
END:VEVENT
BEGIN:VEVENT
DTSTART;TZID=America/Chicago:20250928T190000
DTEND;TZID=America/Chicago:20250928T220000
DTSTAMP:20260419T235140
CREATED:20250918T203733Z
LAST-MODIFIED:20250918T203733Z
UID:33321-1759086000-1759096800@orangeworthy.com
SUMMARY:MercyMe\, TobyMac & Matthew West
DESCRIPTION:MercyMe\, TobyMac & Matthew WestVenue : Ford Park Arena\, Beaumont\, TX
URL:https://orangeworthy.com/event/mercyme-tobymac-matthew-west/
LOCATION:Doggett Ford Park
END:VEVENT
BEGIN:VEVENT
DTSTART;TZID=America/Chicago:20250928T120000
DTEND;TZID=America/Chicago:20250928T170000
DTSTAMP:20260419T235140
CREATED:20250918T203732Z
LAST-MODIFIED:20250918T203732Z
UID:33319-1759060800-1759078800@orangeworthy.com
SUMMARY:Huey’s 91st birthday party
DESCRIPTION:Live music all day at the Oaks Events Center\, VidorWe’re having gumbo\, catfish couvillion\, tea& all the
URL:https://orangeworthy.com/event/hueys-91st-birthday-party/
LOCATION:The Oaks Event Center
END:VEVENT
END:VCALENDAR